BEGIN:VCALENDAR
VERSION:2.0
PRODID:-//Parlor OKC - Oklahoma Citys Finest Food Hall - ECPv6.15.20//NONSGML v1.0//EN
CALSCALE:GREGORIAN
METHOD:PUBLISH
X-WR-CALNAME:Parlor OKC - Oklahoma Citys Finest Food Hall
X-ORIGINAL-URL:https://www.parlorokc.com
X-WR-CALDESC:Events for Parlor OKC - Oklahoma Citys Finest Food Hall
REFRESH-INTERVAL;VALUE=DURATION:PT1H
X-Robots-Tag:noindex
X-PUBLISHED-TTL:PT1H
BEGIN:VTIMEZONE
TZID:America/Chicago
BEGIN:DAYLIGHT
TZOFFSETFROM:-0600
TZOFFSETTO:-0500
TZNAME:CDT
DTSTART:20240310T080000
END:DAYLIGHT
BEGIN:STANDARD
TZOFFSETFROM:-0500
TZOFFSETTO:-0600
TZNAME:CST
DTSTART:20241103T070000
END:STANDARD
BEGIN:DAYLIGHT
TZOFFSETFROM:-0600
TZOFFSETTO:-0500
TZNAME:CDT
DTSTART:20250309T080000
END:DAYLIGHT
BEGIN:STANDARD
TZOFFSETFROM:-0500
TZOFFSETTO:-0600
TZNAME:CST
DTSTART:20251102T070000
END:STANDARD
BEGIN:DAYLIGHT
TZOFFSETFROM:-0600
TZOFFSETTO:-0500
TZNAME:CDT
DTSTART:20260308T080000
END:DAYLIGHT
BEGIN:STANDARD
TZOFFSETFROM:-0500
TZOFFSETTO:-0600
TZNAME:CST
DTSTART:20261101T070000
END:STANDARD
END:VTIMEZONE
BEGIN:VEVENT
DTSTART;TZID=America/Chicago:20250102T140000
DTEND;TZID=America/Chicago:20250102T180000
DTSTAMP:20260425T140944
CREATED:20241106T213943Z
LAST-MODIFIED:20251107T231148Z
UID:10009678-1735826400-1735840800@www.parlorokc.com
SUMMARY:Happiest Hour
DESCRIPTION:Let’s have some fun with our Happy Hour! Every Tuesday to Friday from 2pm to 6pm!
URL:https://www.parlorokc.com/event/happiest-hour-3/2025-01-02/
LOCATION:Parlor\, 11 NE 6th St\, Oklahoma City\, OK\, 73104\, United States
CATEGORIES:Happy Hour
ATTACH;FMTTYPE=application/pdf:https://www.parlorokc.com/wp-content/uploads/2024/08/Happiest-Hour-1.pdf
END:VEVENT
BEGIN:VEVENT
DTSTART;TZID=America/Chicago:20250107T140000
DTEND;TZID=America/Chicago:20250107T180000
DTSTAMP:20260425T140944
CREATED:20241106T213943Z
LAST-MODIFIED:20251107T231148Z
UID:10009680-1736258400-1736272800@www.parlorokc.com
SUMMARY:Happiest Hour
DESCRIPTION:Let’s have some fun with our Happy Hour! Every Tuesday to Friday from 2pm to 6pm!
URL:https://www.parlorokc.com/event/happiest-hour-3/2025-01-07/
LOCATION:Parlor\, 11 NE 6th St\, Oklahoma City\, OK\, 73104\, United States
CATEGORIES:Happy Hour
ATTACH;FMTTYPE=application/pdf:https://www.parlorokc.com/wp-content/uploads/2024/08/Happiest-Hour-1.pdf
END:VEVENT
BEGIN:VEVENT
DTSTART;TZID=America/Chicago:20250109T140000
DTEND;TZID=America/Chicago:20250109T180000
DTSTAMP:20260425T140944
CREATED:20241106T213943Z
LAST-MODIFIED:20251107T231148Z
UID:10009682-1736431200-1736445600@www.parlorokc.com
SUMMARY:Happiest Hour
DESCRIPTION:Let’s have some fun with our Happy Hour! Every Tuesday to Friday from 2pm to 6pm!
URL:https://www.parlorokc.com/event/happiest-hour-3/2025-01-09/
LOCATION:Parlor\, 11 NE 6th St\, Oklahoma City\, OK\, 73104\, United States
CATEGORIES:Happy Hour
ATTACH;FMTTYPE=application/pdf:https://www.parlorokc.com/wp-content/uploads/2024/08/Happiest-Hour-1.pdf
END:VEVENT
BEGIN:VEVENT
DTSTART;TZID=America/Chicago:20250114T140000
DTEND;TZID=America/Chicago:20250114T180000
DTSTAMP:20260425T140944
CREATED:20241106T213943Z
LAST-MODIFIED:20251107T231148Z
UID:10009684-1736863200-1736877600@www.parlorokc.com
SUMMARY:Happiest Hour
DESCRIPTION:Let’s have some fun with our Happy Hour! Every Tuesday to Friday from 2pm to 6pm!
URL:https://www.parlorokc.com/event/happiest-hour-3/2025-01-14/
LOCATION:Parlor\, 11 NE 6th St\, Oklahoma City\, OK\, 73104\, United States
CATEGORIES:Happy Hour
ATTACH;FMTTYPE=application/pdf:https://www.parlorokc.com/wp-content/uploads/2024/08/Happiest-Hour-1.pdf
END:VEVENT
BEGIN:VEVENT
DTSTART;TZID=America/Chicago:20250116T140000
DTEND;TZID=America/Chicago:20250116T180000
DTSTAMP:20260425T140944
CREATED:20241106T213943Z
LAST-MODIFIED:20251107T231148Z
UID:10009686-1737036000-1737050400@www.parlorokc.com
SUMMARY:Happiest Hour
DESCRIPTION:Let’s have some fun with our Happy Hour! Every Tuesday to Friday from 2pm to 6pm!
URL:https://www.parlorokc.com/event/happiest-hour-3/2025-01-16/
LOCATION:Parlor\, 11 NE 6th St\, Oklahoma City\, OK\, 73104\, United States
CATEGORIES:Happy Hour
ATTACH;FMTTYPE=application/pdf:https://www.parlorokc.com/wp-content/uploads/2024/08/Happiest-Hour-1.pdf
END:VEVENT
BEGIN:VEVENT
DTSTART;TZID=America/Chicago:20250121T140000
DTEND;TZID=America/Chicago:20250121T180000
DTSTAMP:20260425T140944
CREATED:20241106T213943Z
LAST-MODIFIED:20251107T231148Z
UID:10009688-1737468000-1737482400@www.parlorokc.com
SUMMARY:Happiest Hour
DESCRIPTION:Let’s have some fun with our Happy Hour! Every Tuesday to Friday from 2pm to 6pm!
URL:https://www.parlorokc.com/event/happiest-hour-3/2025-01-21/
LOCATION:Parlor\, 11 NE 6th St\, Oklahoma City\, OK\, 73104\, United States
CATEGORIES:Happy Hour
ATTACH;FMTTYPE=application/pdf:https://www.parlorokc.com/wp-content/uploads/2024/08/Happiest-Hour-1.pdf
END:VEVENT
BEGIN:VEVENT
DTSTART;TZID=America/Chicago:20250123T140000
DTEND;TZID=America/Chicago:20250123T180000
DTSTAMP:20260425T140944
CREATED:20241106T213943Z
LAST-MODIFIED:20251107T231148Z
UID:10009690-1737640800-1737655200@www.parlorokc.com
SUMMARY:Happiest Hour
DESCRIPTION:Let’s have some fun with our Happy Hour! Every Tuesday to Friday from 2pm to 6pm!
URL:https://www.parlorokc.com/event/happiest-hour-3/2025-01-23/
LOCATION:Parlor\, 11 NE 6th St\, Oklahoma City\, OK\, 73104\, United States
CATEGORIES:Happy Hour
ATTACH;FMTTYPE=application/pdf:https://www.parlorokc.com/wp-content/uploads/2024/08/Happiest-Hour-1.pdf
END:VEVENT
BEGIN:VEVENT
DTSTART;TZID=America/Chicago:20250128T140000
DTEND;TZID=America/Chicago:20250128T180000
DTSTAMP:20260425T140944
CREATED:20241106T213943Z
LAST-MODIFIED:20251107T231148Z
UID:10009692-1738072800-1738087200@www.parlorokc.com
SUMMARY:Happiest Hour
DESCRIPTION:Let’s have some fun with our Happy Hour! Every Tuesday to Friday from 2pm to 6pm!
URL:https://www.parlorokc.com/event/happiest-hour-3/2025-01-28/
LOCATION:Parlor\, 11 NE 6th St\, Oklahoma City\, OK\, 73104\, United States
CATEGORIES:Happy Hour
ATTACH;FMTTYPE=application/pdf:https://www.parlorokc.com/wp-content/uploads/2024/08/Happiest-Hour-1.pdf
END:VEVENT
BEGIN:VEVENT
DTSTART;TZID=America/Chicago:20250130T140000
DTEND;TZID=America/Chicago:20250130T180000
DTSTAMP:20260425T140944
CREATED:20241106T213943Z
LAST-MODIFIED:20251107T231148Z
UID:10009694-1738245600-1738260000@www.parlorokc.com
SUMMARY:Happiest Hour
DESCRIPTION:Let’s have some fun with our Happy Hour! Every Tuesday to Friday from 2pm to 6pm!
URL:https://www.parlorokc.com/event/happiest-hour-3/2025-01-30/
LOCATION:Parlor\, 11 NE 6th St\, Oklahoma City\, OK\, 73104\, United States
CATEGORIES:Happy Hour
ATTACH;FMTTYPE=application/pdf:https://www.parlorokc.com/wp-content/uploads/2024/08/Happiest-Hour-1.pdf
END:VEVENT
END:VCALENDAR