BEGIN:VCALENDAR
VERSION:2.0
PRODID:-//Parlor OKC - Oklahoma Citys Finest Food Hall - ECPv6.15.20//NONSGML v1.0//EN
CALSCALE:GREGORIAN
METHOD:PUBLISH
X-WR-CALNAME:Parlor OKC - Oklahoma Citys Finest Food Hall
X-ORIGINAL-URL:https://www.parlorokc.com
X-WR-CALDESC:Events for Parlor OKC - Oklahoma Citys Finest Food Hall
REFRESH-INTERVAL;VALUE=DURATION:PT1H
X-Robots-Tag:noindex
X-PUBLISHED-TTL:PT1H
BEGIN:VTIMEZONE
TZID:America/Chicago
BEGIN:DAYLIGHT
TZOFFSETFROM:-0600
TZOFFSETTO:-0500
TZNAME:CDT
DTSTART:20240310T080000
END:DAYLIGHT
BEGIN:STANDARD
TZOFFSETFROM:-0500
TZOFFSETTO:-0600
TZNAME:CST
DTSTART:20241103T070000
END:STANDARD
BEGIN:DAYLIGHT
TZOFFSETFROM:-0600
TZOFFSETTO:-0500
TZNAME:CDT
DTSTART:20250309T080000
END:DAYLIGHT
BEGIN:STANDARD
TZOFFSETFROM:-0500
TZOFFSETTO:-0600
TZNAME:CST
DTSTART:20251102T070000
END:STANDARD
BEGIN:DAYLIGHT
TZOFFSETFROM:-0600
TZOFFSETTO:-0500
TZNAME:CDT
DTSTART:20260308T080000
END:DAYLIGHT
BEGIN:STANDARD
TZOFFSETFROM:-0500
TZOFFSETTO:-0600
TZNAME:CST
DTSTART:20261101T070000
END:STANDARD
END:VTIMEZONE
BEGIN:VEVENT
DTSTART;TZID=America/Chicago:20250304T140000
DTEND;TZID=America/Chicago:20250304T180000
DTSTAMP:20260423T083146
CREATED:20241106T213943Z
LAST-MODIFIED:20251107T231148Z
UID:10009712-1741096800-1741111200@www.parlorokc.com
SUMMARY:Happiest Hour
DESCRIPTION:Let’s have some fun with our Happy Hour! Every Tuesday to Friday from 2pm to 6pm!
URL:https://www.parlorokc.com/event/happiest-hour-3/2025-03-04/
LOCATION:Parlor\, 11 NE 6th St\, Oklahoma City\, OK\, 73104\, United States
CATEGORIES:Happy Hour
ATTACH;FMTTYPE=application/pdf:https://www.parlorokc.com/wp-content/uploads/2024/08/Happiest-Hour-1.pdf
END:VEVENT
BEGIN:VEVENT
DTSTART;TZID=America/Chicago:20250306T140000
DTEND;TZID=America/Chicago:20250306T180000
DTSTAMP:20260423T083146
CREATED:20241106T213943Z
LAST-MODIFIED:20251107T231148Z
UID:10009714-1741269600-1741284000@www.parlorokc.com
SUMMARY:Happiest Hour
DESCRIPTION:Let’s have some fun with our Happy Hour! Every Tuesday to Friday from 2pm to 6pm!
URL:https://www.parlorokc.com/event/happiest-hour-3/2025-03-06/
LOCATION:Parlor\, 11 NE 6th St\, Oklahoma City\, OK\, 73104\, United States
CATEGORIES:Happy Hour
ATTACH;FMTTYPE=application/pdf:https://www.parlorokc.com/wp-content/uploads/2024/08/Happiest-Hour-1.pdf
END:VEVENT
BEGIN:VEVENT
DTSTART;TZID=America/Chicago:20250311T140000
DTEND;TZID=America/Chicago:20250311T180000
DTSTAMP:20260423T083146
CREATED:20241106T213943Z
LAST-MODIFIED:20251107T231148Z
UID:10009716-1741701600-1741716000@www.parlorokc.com
SUMMARY:Happiest Hour
DESCRIPTION:Let’s have some fun with our Happy Hour! Every Tuesday to Friday from 2pm to 6pm!
URL:https://www.parlorokc.com/event/happiest-hour-3/2025-03-11/
LOCATION:Parlor\, 11 NE 6th St\, Oklahoma City\, OK\, 73104\, United States
CATEGORIES:Happy Hour
ATTACH;FMTTYPE=application/pdf:https://www.parlorokc.com/wp-content/uploads/2024/08/Happiest-Hour-1.pdf
END:VEVENT
BEGIN:VEVENT
DTSTART;TZID=America/Chicago:20250313T140000
DTEND;TZID=America/Chicago:20250313T180000
DTSTAMP:20260423T083146
CREATED:20241106T213943Z
LAST-MODIFIED:20251107T231148Z
UID:10009718-1741874400-1741888800@www.parlorokc.com
SUMMARY:Happiest Hour
DESCRIPTION:Let’s have some fun with our Happy Hour! Every Tuesday to Friday from 2pm to 6pm!
URL:https://www.parlorokc.com/event/happiest-hour-3/2025-03-13/
LOCATION:Parlor\, 11 NE 6th St\, Oklahoma City\, OK\, 73104\, United States
CATEGORIES:Happy Hour
ATTACH;FMTTYPE=application/pdf:https://www.parlorokc.com/wp-content/uploads/2024/08/Happiest-Hour-1.pdf
END:VEVENT
BEGIN:VEVENT
DTSTART;TZID=America/Chicago:20250318T140000
DTEND;TZID=America/Chicago:20250318T180000
DTSTAMP:20260423T083146
CREATED:20241106T213943Z
LAST-MODIFIED:20251107T231148Z
UID:10009720-1742306400-1742320800@www.parlorokc.com
SUMMARY:Happiest Hour
DESCRIPTION:Let’s have some fun with our Happy Hour! Every Tuesday to Friday from 2pm to 6pm!
URL:https://www.parlorokc.com/event/happiest-hour-3/2025-03-18/
LOCATION:Parlor\, 11 NE 6th St\, Oklahoma City\, OK\, 73104\, United States
CATEGORIES:Happy Hour
ATTACH;FMTTYPE=application/pdf:https://www.parlorokc.com/wp-content/uploads/2024/08/Happiest-Hour-1.pdf
END:VEVENT
BEGIN:VEVENT
DTSTART;TZID=America/Chicago:20250320T140000
DTEND;TZID=America/Chicago:20250320T180000
DTSTAMP:20260423T083146
CREATED:20241106T213943Z
LAST-MODIFIED:20251107T231148Z
UID:10009722-1742479200-1742493600@www.parlorokc.com
SUMMARY:Happiest Hour
DESCRIPTION:Let’s have some fun with our Happy Hour! Every Tuesday to Friday from 2pm to 6pm!
URL:https://www.parlorokc.com/event/happiest-hour-3/2025-03-20/
LOCATION:Parlor\, 11 NE 6th St\, Oklahoma City\, OK\, 73104\, United States
CATEGORIES:Happy Hour
ATTACH;FMTTYPE=application/pdf:https://www.parlorokc.com/wp-content/uploads/2024/08/Happiest-Hour-1.pdf
END:VEVENT
BEGIN:VEVENT
DTSTART;TZID=America/Chicago:20250325T140000
DTEND;TZID=America/Chicago:20250325T180000
DTSTAMP:20260423T083146
CREATED:20241106T213943Z
LAST-MODIFIED:20251107T231148Z
UID:10009724-1742911200-1742925600@www.parlorokc.com
SUMMARY:Happiest Hour
DESCRIPTION:Let’s have some fun with our Happy Hour! Every Tuesday to Friday from 2pm to 6pm!
URL:https://www.parlorokc.com/event/happiest-hour-3/2025-03-25/
LOCATION:Parlor\, 11 NE 6th St\, Oklahoma City\, OK\, 73104\, United States
CATEGORIES:Happy Hour
ATTACH;FMTTYPE=application/pdf:https://www.parlorokc.com/wp-content/uploads/2024/08/Happiest-Hour-1.pdf
END:VEVENT
BEGIN:VEVENT
DTSTART;TZID=America/Chicago:20250327T140000
DTEND;TZID=America/Chicago:20250327T180000
DTSTAMP:20260423T083146
CREATED:20241106T213943Z
LAST-MODIFIED:20251107T231148Z
UID:10009726-1743084000-1743098400@www.parlorokc.com
SUMMARY:Happiest Hour
DESCRIPTION:Let’s have some fun with our Happy Hour! Every Tuesday to Friday from 2pm to 6pm!
URL:https://www.parlorokc.com/event/happiest-hour-3/2025-03-27/
LOCATION:Parlor\, 11 NE 6th St\, Oklahoma City\, OK\, 73104\, United States
CATEGORIES:Happy Hour
ATTACH;FMTTYPE=application/pdf:https://www.parlorokc.com/wp-content/uploads/2024/08/Happiest-Hour-1.pdf
END:VEVENT
END:VCALENDAR