BEGIN:VCALENDAR
VERSION:2.0
PRODID:-//Parlor OKC - Oklahoma Citys Finest Food Hall - ECPv6.15.20//NONSGML v1.0//EN
CALSCALE:GREGORIAN
METHOD:PUBLISH
X-WR-CALNAME:Parlor OKC - Oklahoma Citys Finest Food Hall
X-ORIGINAL-URL:https://www.parlorokc.com
X-WR-CALDESC:Events for Parlor OKC - Oklahoma Citys Finest Food Hall
REFRESH-INTERVAL;VALUE=DURATION:PT1H
X-Robots-Tag:noindex
X-PUBLISHED-TTL:PT1H
BEGIN:VTIMEZONE
TZID:America/Chicago
BEGIN:DAYLIGHT
TZOFFSETFROM:-0600
TZOFFSETTO:-0500
TZNAME:CDT
DTSTART:20240310T080000
END:DAYLIGHT
BEGIN:STANDARD
TZOFFSETFROM:-0500
TZOFFSETTO:-0600
TZNAME:CST
DTSTART:20241103T070000
END:STANDARD
BEGIN:DAYLIGHT
TZOFFSETFROM:-0600
TZOFFSETTO:-0500
TZNAME:CDT
DTSTART:20250309T080000
END:DAYLIGHT
BEGIN:STANDARD
TZOFFSETFROM:-0500
TZOFFSETTO:-0600
TZNAME:CST
DTSTART:20251102T070000
END:STANDARD
BEGIN:DAYLIGHT
TZOFFSETFROM:-0600
TZOFFSETTO:-0500
TZNAME:CDT
DTSTART:20260308T080000
END:DAYLIGHT
BEGIN:STANDARD
TZOFFSETFROM:-0500
TZOFFSETTO:-0600
TZNAME:CST
DTSTART:20261101T070000
END:STANDARD
END:VTIMEZONE
BEGIN:VEVENT
DTSTART;TZID=America/Chicago:20250101T193000
DTEND;TZID=America/Chicago:20250101T213000
DTSTAMP:20260420T062123
CREATED:20241107T003642Z
LAST-MODIFIED:20251107T225619Z
UID:10011823-1735759800-1735767000@www.parlorokc.com
SUMMARY:Music Bingo Wedneday
DESCRIPTION:Music Bingo with Prizes! Instead of a number\, listen to a sample of a song and mark the name of the song on your sheet.
URL:https://www.parlorokc.com/event/music-bingo-wedneday/2025-01-01/
CATEGORIES:Music Bingo
ATTACH;FMTTYPE=image/png:https://www.parlorokc.com/wp-content/uploads/2022/04/1.png
END:VEVENT
BEGIN:VEVENT
DTSTART;TZID=America/Chicago:20250108T193000
DTEND;TZID=America/Chicago:20250108T213000
DTSTAMP:20260420T062123
CREATED:20241107T003642Z
LAST-MODIFIED:20251107T225619Z
UID:10011824-1736364600-1736371800@www.parlorokc.com
SUMMARY:Music Bingo Wedneday
DESCRIPTION:Music Bingo with Prizes! Instead of a number\, listen to a sample of a song and mark the name of the song on your sheet.
URL:https://www.parlorokc.com/event/music-bingo-wedneday/2025-01-08/
CATEGORIES:Music Bingo
ATTACH;FMTTYPE=image/png:https://www.parlorokc.com/wp-content/uploads/2022/04/1.png
END:VEVENT
BEGIN:VEVENT
DTSTART;TZID=America/Chicago:20250115T193000
DTEND;TZID=America/Chicago:20250115T213000
DTSTAMP:20260420T062123
CREATED:20241107T003642Z
LAST-MODIFIED:20251107T225619Z
UID:10011825-1736969400-1736976600@www.parlorokc.com
SUMMARY:Music Bingo Wedneday
DESCRIPTION:Music Bingo with Prizes! Instead of a number\, listen to a sample of a song and mark the name of the song on your sheet.
URL:https://www.parlorokc.com/event/music-bingo-wedneday/2025-01-15/
CATEGORIES:Music Bingo
ATTACH;FMTTYPE=image/png:https://www.parlorokc.com/wp-content/uploads/2022/04/1.png
END:VEVENT
BEGIN:VEVENT
DTSTART;TZID=America/Chicago:20250122T193000
DTEND;TZID=America/Chicago:20250122T213000
DTSTAMP:20260420T062123
CREATED:20241107T003642Z
LAST-MODIFIED:20251107T225619Z
UID:10011826-1737574200-1737581400@www.parlorokc.com
SUMMARY:Music Bingo Wedneday
DESCRIPTION:Music Bingo with Prizes! Instead of a number\, listen to a sample of a song and mark the name of the song on your sheet.
URL:https://www.parlorokc.com/event/music-bingo-wedneday/2025-01-22/
CATEGORIES:Music Bingo
ATTACH;FMTTYPE=image/png:https://www.parlorokc.com/wp-content/uploads/2022/04/1.png
END:VEVENT
BEGIN:VEVENT
DTSTART;TZID=America/Chicago:20250129T193000
DTEND;TZID=America/Chicago:20250129T213000
DTSTAMP:20260420T062123
CREATED:20241107T003642Z
LAST-MODIFIED:20251107T225619Z
UID:10011827-1738179000-1738186200@www.parlorokc.com
SUMMARY:Music Bingo Wedneday
DESCRIPTION:Music Bingo with Prizes! Instead of a number\, listen to a sample of a song and mark the name of the song on your sheet.
URL:https://www.parlorokc.com/event/music-bingo-wedneday/2025-01-29/
CATEGORIES:Music Bingo
ATTACH;FMTTYPE=image/png:https://www.parlorokc.com/wp-content/uploads/2022/04/1.png
END:VEVENT
END:VCALENDAR