BEGIN:VCALENDAR
VERSION:2.0
PRODID:-//Parlor OKC - Oklahoma Citys Finest Food Hall - ECPv6.15.20//NONSGML v1.0//EN
CALSCALE:GREGORIAN
METHOD:PUBLISH
X-ORIGINAL-URL:https://www.parlorokc.com
X-WR-CALDESC:Events for Parlor OKC - Oklahoma Citys Finest Food Hall
REFRESH-INTERVAL;VALUE=DURATION:PT1H
X-Robots-Tag:noindex
X-PUBLISHED-TTL:PT1H
BEGIN:VTIMEZONE
TZID:America/Chicago
BEGIN:DAYLIGHT
TZOFFSETFROM:-0600
TZOFFSETTO:-0500
TZNAME:CDT
DTSTART:20230312T080000
END:DAYLIGHT
BEGIN:STANDARD
TZOFFSETFROM:-0500
TZOFFSETTO:-0600
TZNAME:CST
DTSTART:20231105T070000
END:STANDARD
BEGIN:DAYLIGHT
TZOFFSETFROM:-0600
TZOFFSETTO:-0500
TZNAME:CDT
DTSTART:20240310T080000
END:DAYLIGHT
BEGIN:STANDARD
TZOFFSETFROM:-0500
TZOFFSETTO:-0600
TZNAME:CST
DTSTART:20241103T070000
END:STANDARD
BEGIN:DAYLIGHT
TZOFFSETFROM:-0600
TZOFFSETTO:-0500
TZNAME:CDT
DTSTART:20250309T080000
END:DAYLIGHT
BEGIN:STANDARD
TZOFFSETFROM:-0500
TZOFFSETTO:-0600
TZNAME:CST
DTSTART:20251102T070000
END:STANDARD
END:VTIMEZONE
BEGIN:VEVENT
DTSTART;TZID=America/Chicago:20241127T193000
DTEND;TZID=America/Chicago:20241127T213000
DTSTAMP:20260421T154139
CREATED:20241106T213943Z
LAST-MODIFIED:20241106T213943Z
UID:10004768-1732735800-1732743000@www.parlorokc.com
SUMMARY:Music Bingo Wednesday & Drinksgiving Party!
DESCRIPTION:Join us every Wednesday Night from 7:30pm-9:30pm for music bingo. Hosted by BTK Productions\, music bingo is just like normal bingo just with song titles instead of numbers! Listen to a sample of a song and mark the name of the song on your sheet. Prizes given to each round.
URL:https://www.parlorokc.com/event/music-bingo-wednesday-2/
LOCATION:Parlor\, 11 NE 6th St\, Oklahoma City\, OK\, 73104\, United States
CATEGORIES:Music Bingo
ATTACH;FMTTYPE=image/png:https://www.parlorokc.com/wp-content/uploads/2022/04/1.png
END:VEVENT
BEGIN:VEVENT
DTSTART;TZID=America/Chicago:20241127T193000
DTEND;TZID=America/Chicago:20241127T213000
DTSTAMP:20260421T154139
CREATED:20241107T003642Z
LAST-MODIFIED:20251107T225619Z
UID:10013989-1732735800-1732743000@www.parlorokc.com
SUMMARY:Music Bingo Wedneday
DESCRIPTION:Music Bingo with Prizes! Instead of a number\, listen to a sample of a song and mark the name of the song on your sheet.
URL:https://www.parlorokc.com/event/music-bingo-wedneday/2024-11-27/
CATEGORIES:Music Bingo
ATTACH;FMTTYPE=image/png:https://www.parlorokc.com/wp-content/uploads/2022/04/1.png
END:VEVENT
END:VCALENDAR