BEGIN:VCALENDAR
VERSION:2.0
PRODID:-//Parlor OKC - Oklahoma Citys Finest Food Hall - ECPv6.15.20//NONSGML v1.0//EN
CALSCALE:GREGORIAN
METHOD:PUBLISH
X-WR-CALNAME:Parlor OKC - Oklahoma Citys Finest Food Hall
X-ORIGINAL-URL:https://www.parlorokc.com
X-WR-CALDESC:Events for Parlor OKC - Oklahoma Citys Finest Food Hall
REFRESH-INTERVAL;VALUE=DURATION:PT1H
X-Robots-Tag:noindex
X-PUBLISHED-TTL:PT1H
BEGIN:VTIMEZONE
TZID:America/Chicago
BEGIN:DAYLIGHT
TZOFFSETFROM:-0600
TZOFFSETTO:-0500
TZNAME:CDT
DTSTART:20280312T080000
END:DAYLIGHT
BEGIN:STANDARD
TZOFFSETFROM:-0500
TZOFFSETTO:-0600
TZNAME:CST
DTSTART:20281105T070000
END:STANDARD
BEGIN:DAYLIGHT
TZOFFSETFROM:-0600
TZOFFSETTO:-0500
TZNAME:CDT
DTSTART:20290311T080000
END:DAYLIGHT
BEGIN:STANDARD
TZOFFSETFROM:-0500
TZOFFSETTO:-0600
TZNAME:CST
DTSTART:20291104T070000
END:STANDARD
BEGIN:DAYLIGHT
TZOFFSETFROM:-0600
TZOFFSETTO:-0500
TZNAME:CDT
DTSTART:20300310T080000
END:DAYLIGHT
BEGIN:STANDARD
TZOFFSETFROM:-0500
TZOFFSETTO:-0600
TZNAME:CST
DTSTART:20301103T070000
END:STANDARD
END:VTIMEZONE
BEGIN:VEVENT
DTSTART;TZID=America/Chicago:20290929T110000
DTEND;TZID=America/Chicago:20290929T180000
DTSTAMP:20260422T110508
CREATED:20250514T004801Z
LAST-MODIFIED:20250514T004801Z
UID:10013235-1885374000-1885399200@www.parlorokc.com
SUMMARY:Saturday Brunch
DESCRIPTION:Start your weekend with some Brunch cocktails! Mimosas\, Beermosas\, and Bloody Marys!
URL:https://www.parlorokc.com/event/saturday-brunch/2029-09-29/
LOCATION:Parlor\, 11 NE 6th St\, Oklahoma City\, OK\, 73104\, United States
CATEGORIES:Brunch
ATTACH;FMTTYPE=application/pdf:https://www.parlorokc.com/wp-content/uploads/2025/05/Untitled-design-3.pdf
END:VEVENT
BEGIN:VEVENT
DTSTART;TZID=America/Chicago:20290928T140000
DTEND;TZID=America/Chicago:20290928T180000
DTSTAMP:20260422T110508
CREATED:20250803T224945Z
LAST-MODIFIED:20251107T231039Z
UID:10013792-1885298400-1885312800@www.parlorokc.com
SUMMARY:Happiest Hour
DESCRIPTION:Let’s have some fun with our Happy Hour! Every Tuesday to Friday from 2pm to 6pm!
URL:https://www.parlorokc.com/event/happiest-hour-6/2029-09-28/
CATEGORIES:Happy Hour
ATTACH;FMTTYPE=application/pdf:https://www.parlorokc.com/wp-content/uploads/2025/08/Happiest-Hour-2.pdf
END:VEVENT
BEGIN:VEVENT
DTSTART;TZID=America/Chicago:20290927T140000
DTEND;TZID=America/Chicago:20290927T180000
DTSTAMP:20260422T110508
CREATED:20241106T213943Z
LAST-MODIFIED:20251107T231148Z
UID:10010666-1885212000-1885226400@www.parlorokc.com
SUMMARY:Happiest Hour
DESCRIPTION:Let’s have some fun with our Happy Hour! Every Tuesday to Friday from 2pm to 6pm!
URL:https://www.parlorokc.com/event/happiest-hour-3/2029-09-27/
LOCATION:Parlor\, 11 NE 6th St\, Oklahoma City\, OK\, 73104\, United States
CATEGORIES:Happy Hour
ATTACH;FMTTYPE=application/pdf:https://www.parlorokc.com/wp-content/uploads/2024/08/Happiest-Hour-1.pdf
END:VEVENT
BEGIN:VEVENT
DTSTART;TZID=America/Chicago:20290926T193000
DTEND;TZID=America/Chicago:20290926T213000
DTSTAMP:20260422T110508
CREATED:20241107T003642Z
LAST-MODIFIED:20251107T225619Z
UID:10012070-1885145400-1885152600@www.parlorokc.com
SUMMARY:Music Bingo Wedneday
DESCRIPTION:Music Bingo with Prizes! Instead of a number\, listen to a sample of a song and mark the name of the song on your sheet.
URL:https://www.parlorokc.com/event/music-bingo-wedneday/2029-09-26/
CATEGORIES:Music Bingo
ATTACH;FMTTYPE=image/png:https://www.parlorokc.com/wp-content/uploads/2022/04/1.png
END:VEVENT
BEGIN:VEVENT
DTSTART;TZID=America/Chicago:20290926T140000
DTEND;TZID=America/Chicago:20290926T180000
DTSTAMP:20260422T110508
CREATED:20250803T224945Z
LAST-MODIFIED:20251107T231039Z
UID:10013791-1885125600-1885140000@www.parlorokc.com
SUMMARY:Happiest Hour
DESCRIPTION:Let’s have some fun with our Happy Hour! Every Tuesday to Friday from 2pm to 6pm!
URL:https://www.parlorokc.com/event/happiest-hour-6/2029-09-26/
CATEGORIES:Happy Hour
ATTACH;FMTTYPE=application/pdf:https://www.parlorokc.com/wp-content/uploads/2025/08/Happiest-Hour-2.pdf
END:VEVENT
BEGIN:VEVENT
DTSTART;TZID=America/Chicago:20290925T193000
DTEND;TZID=America/Chicago:20290925T210000
DTSTAMP:20260422T110508
CREATED:20241107T001309Z
LAST-MODIFIED:20241107T001310Z
UID:10011547-1885059000-1885064400@www.parlorokc.com
SUMMARY:Trivia Tuesday
DESCRIPTION:Join us every Tuesday Night from 7:30pm-9:30pm for our weekly trivia night. Hosted by BTK Productions\, battle against other teams to prove your knowledge. Prizes given to 1st\, 2nd\, & 3rd place winners.
URL:https://www.parlorokc.com/event/trivia-tuesday-5/2029-09-25/
LOCATION:Parlor\, 11 NE 6th St\, Oklahoma City\, OK\, 73104\, United States
ATTACH;FMTTYPE=image/png:https://www.parlorokc.com/wp-content/uploads/2022/04/2.png
END:VEVENT
BEGIN:VEVENT
DTSTART;TZID=America/Chicago:20290925T140000
DTEND;TZID=America/Chicago:20290925T180000
DTSTAMP:20260422T110508
CREATED:20241106T213943Z
LAST-MODIFIED:20251107T231148Z
UID:10010664-1885039200-1885053600@www.parlorokc.com
SUMMARY:Happiest Hour
DESCRIPTION:Let’s have some fun with our Happy Hour! Every Tuesday to Friday from 2pm to 6pm!
URL:https://www.parlorokc.com/event/happiest-hour-3/2029-09-25/
LOCATION:Parlor\, 11 NE 6th St\, Oklahoma City\, OK\, 73104\, United States
CATEGORIES:Happy Hour
ATTACH;FMTTYPE=application/pdf:https://www.parlorokc.com/wp-content/uploads/2024/08/Happiest-Hour-1.pdf
END:VEVENT
BEGIN:VEVENT
DTSTART;TZID=America/Chicago:20290924T110000
DTEND;TZID=America/Chicago:20290924T230000
DTSTAMP:20260422T110508
CREATED:20260320T005418Z
LAST-MODIFIED:20260320T005419Z
UID:10012606-1884942000-1884985200@www.parlorokc.com
SUMMARY:Closed for Cleaning & Staff Refresh; MOB Grill is open for lunch
DESCRIPTION:Closed for Cleaning & Staff Refresh. MOB Grill  is open for lunch from 11am-2pm!
URL:https://www.parlorokc.com/event/closed-for-cleaning-staff-refresh-2-2-2-2-2/2029-09-24/
LOCATION:Parlor\, 11 NE 6th St\, Oklahoma City\, OK\, 73104\, United States
ATTACH;FMTTYPE=image/png:https://www.parlorokc.com/wp-content/uploads/2024/06/Closed-for-cleaning-staff-refresh.png
END:VEVENT
BEGIN:VEVENT
DTSTART;TZID=America/Chicago:20290923T110000
DTEND;TZID=America/Chicago:20290923T180000
DTSTAMP:20260422T110508
CREATED:20250514T003239Z
LAST-MODIFIED:20250514T003239Z
UID:10012590-1884855600-1884880800@www.parlorokc.com
SUMMARY:Sunday Funday Brunch Bottomless Mimosas
DESCRIPTION:Come join us for brunch! We have a live DJ spinning bangers with BOTTOMLESS MIMOSAS!
URL:https://www.parlorokc.com/event/sunday-funday-brunch-2-2/2029-09-23/
ATTACH;FMTTYPE=image/png:https://www.parlorokc.com/wp-content/uploads/2022/11/Brunch-4-e1693251251292.png
END:VEVENT
BEGIN:VEVENT
DTSTART;TZID=America/Chicago:20290922T110000
DTEND;TZID=America/Chicago:20290922T180000
DTSTAMP:20260422T110508
CREATED:20250514T004801Z
LAST-MODIFIED:20250514T004801Z
UID:10013234-1884769200-1884794400@www.parlorokc.com
SUMMARY:Saturday Brunch
DESCRIPTION:Start your weekend with some Brunch cocktails! Mimosas\, Beermosas\, and Bloody Marys!
URL:https://www.parlorokc.com/event/saturday-brunch/2029-09-22/
LOCATION:Parlor\, 11 NE 6th St\, Oklahoma City\, OK\, 73104\, United States
CATEGORIES:Brunch
ATTACH;FMTTYPE=application/pdf:https://www.parlorokc.com/wp-content/uploads/2025/05/Untitled-design-3.pdf
END:VEVENT
BEGIN:VEVENT
DTSTART;TZID=America/Chicago:20290921T140000
DTEND;TZID=America/Chicago:20290921T180000
DTSTAMP:20260422T110508
CREATED:20250803T224945Z
LAST-MODIFIED:20251107T231039Z
UID:10013790-1884693600-1884708000@www.parlorokc.com
SUMMARY:Happiest Hour
DESCRIPTION:Let’s have some fun with our Happy Hour! Every Tuesday to Friday from 2pm to 6pm!
URL:https://www.parlorokc.com/event/happiest-hour-6/2029-09-21/
CATEGORIES:Happy Hour
ATTACH;FMTTYPE=application/pdf:https://www.parlorokc.com/wp-content/uploads/2025/08/Happiest-Hour-2.pdf
END:VEVENT
BEGIN:VEVENT
DTSTART;TZID=America/Chicago:20290920T140000
DTEND;TZID=America/Chicago:20290920T180000
DTSTAMP:20260422T110508
CREATED:20241106T213943Z
LAST-MODIFIED:20251107T231148Z
UID:10010662-1884607200-1884621600@www.parlorokc.com
SUMMARY:Happiest Hour
DESCRIPTION:Let’s have some fun with our Happy Hour! Every Tuesday to Friday from 2pm to 6pm!
URL:https://www.parlorokc.com/event/happiest-hour-3/2029-09-20/
LOCATION:Parlor\, 11 NE 6th St\, Oklahoma City\, OK\, 73104\, United States
CATEGORIES:Happy Hour
ATTACH;FMTTYPE=application/pdf:https://www.parlorokc.com/wp-content/uploads/2024/08/Happiest-Hour-1.pdf
END:VEVENT
BEGIN:VEVENT
DTSTART;TZID=America/Chicago:20290919T193000
DTEND;TZID=America/Chicago:20290919T213000
DTSTAMP:20260422T110508
CREATED:20241107T003642Z
LAST-MODIFIED:20251107T225619Z
UID:10012069-1884540600-1884547800@www.parlorokc.com
SUMMARY:Music Bingo Wedneday
DESCRIPTION:Music Bingo with Prizes! Instead of a number\, listen to a sample of a song and mark the name of the song on your sheet.
URL:https://www.parlorokc.com/event/music-bingo-wedneday/2029-09-19/
CATEGORIES:Music Bingo
ATTACH;FMTTYPE=image/png:https://www.parlorokc.com/wp-content/uploads/2022/04/1.png
END:VEVENT
BEGIN:VEVENT
DTSTART;TZID=America/Chicago:20290919T140000
DTEND;TZID=America/Chicago:20290919T180000
DTSTAMP:20260422T110508
CREATED:20250803T224945Z
LAST-MODIFIED:20251107T231039Z
UID:10013789-1884520800-1884535200@www.parlorokc.com
SUMMARY:Happiest Hour
DESCRIPTION:Let’s have some fun with our Happy Hour! Every Tuesday to Friday from 2pm to 6pm!
URL:https://www.parlorokc.com/event/happiest-hour-6/2029-09-19/
CATEGORIES:Happy Hour
ATTACH;FMTTYPE=application/pdf:https://www.parlorokc.com/wp-content/uploads/2025/08/Happiest-Hour-2.pdf
END:VEVENT
BEGIN:VEVENT
DTSTART;TZID=America/Chicago:20290918T193000
DTEND;TZID=America/Chicago:20290918T210000
DTSTAMP:20260422T110508
CREATED:20241107T001309Z
LAST-MODIFIED:20241107T001310Z
UID:10011546-1884454200-1884459600@www.parlorokc.com
SUMMARY:Trivia Tuesday
DESCRIPTION:Join us every Tuesday Night from 7:30pm-9:30pm for our weekly trivia night. Hosted by BTK Productions\, battle against other teams to prove your knowledge. Prizes given to 1st\, 2nd\, & 3rd place winners.
URL:https://www.parlorokc.com/event/trivia-tuesday-5/2029-09-18/
LOCATION:Parlor\, 11 NE 6th St\, Oklahoma City\, OK\, 73104\, United States
ATTACH;FMTTYPE=image/png:https://www.parlorokc.com/wp-content/uploads/2022/04/2.png
END:VEVENT
BEGIN:VEVENT
DTSTART;TZID=America/Chicago:20290918T140000
DTEND;TZID=America/Chicago:20290918T180000
DTSTAMP:20260422T110508
CREATED:20241106T213943Z
LAST-MODIFIED:20251107T231148Z
UID:10010660-1884434400-1884448800@www.parlorokc.com
SUMMARY:Happiest Hour
DESCRIPTION:Let’s have some fun with our Happy Hour! Every Tuesday to Friday from 2pm to 6pm!
URL:https://www.parlorokc.com/event/happiest-hour-3/2029-09-18/
LOCATION:Parlor\, 11 NE 6th St\, Oklahoma City\, OK\, 73104\, United States
CATEGORIES:Happy Hour
ATTACH;FMTTYPE=application/pdf:https://www.parlorokc.com/wp-content/uploads/2024/08/Happiest-Hour-1.pdf
END:VEVENT
BEGIN:VEVENT
DTSTART;TZID=America/Chicago:20290917T110000
DTEND;TZID=America/Chicago:20290917T230000
DTSTAMP:20260422T110508
CREATED:20260320T005418Z
LAST-MODIFIED:20260320T005419Z
UID:10012605-1884337200-1884380400@www.parlorokc.com
SUMMARY:Closed for Cleaning & Staff Refresh; MOB Grill is open for lunch
DESCRIPTION:Closed for Cleaning & Staff Refresh. MOB Grill  is open for lunch from 11am-2pm!
URL:https://www.parlorokc.com/event/closed-for-cleaning-staff-refresh-2-2-2-2-2/2029-09-17/
LOCATION:Parlor\, 11 NE 6th St\, Oklahoma City\, OK\, 73104\, United States
ATTACH;FMTTYPE=image/png:https://www.parlorokc.com/wp-content/uploads/2024/06/Closed-for-cleaning-staff-refresh.png
END:VEVENT
BEGIN:VEVENT
DTSTART;TZID=America/Chicago:20290916T110000
DTEND;TZID=America/Chicago:20290916T180000
DTSTAMP:20260422T110508
CREATED:20250514T003239Z
LAST-MODIFIED:20250514T003239Z
UID:10012589-1884250800-1884276000@www.parlorokc.com
SUMMARY:Sunday Funday Brunch Bottomless Mimosas
DESCRIPTION:Come join us for brunch! We have a live DJ spinning bangers with BOTTOMLESS MIMOSAS!
URL:https://www.parlorokc.com/event/sunday-funday-brunch-2-2/2029-09-16/
ATTACH;FMTTYPE=image/png:https://www.parlorokc.com/wp-content/uploads/2022/11/Brunch-4-e1693251251292.png
END:VEVENT
BEGIN:VEVENT
DTSTART;TZID=America/Chicago:20290915T110000
DTEND;TZID=America/Chicago:20290915T180000
DTSTAMP:20260422T110508
CREATED:20250514T004801Z
LAST-MODIFIED:20250514T004801Z
UID:10013233-1884164400-1884189600@www.parlorokc.com
SUMMARY:Saturday Brunch
DESCRIPTION:Start your weekend with some Brunch cocktails! Mimosas\, Beermosas\, and Bloody Marys!
URL:https://www.parlorokc.com/event/saturday-brunch/2029-09-15/
LOCATION:Parlor\, 11 NE 6th St\, Oklahoma City\, OK\, 73104\, United States
CATEGORIES:Brunch
ATTACH;FMTTYPE=application/pdf:https://www.parlorokc.com/wp-content/uploads/2025/05/Untitled-design-3.pdf
END:VEVENT
BEGIN:VEVENT
DTSTART;TZID=America/Chicago:20290914T140000
DTEND;TZID=America/Chicago:20290914T180000
DTSTAMP:20260422T110508
CREATED:20250803T224945Z
LAST-MODIFIED:20251107T231039Z
UID:10013788-1884088800-1884103200@www.parlorokc.com
SUMMARY:Happiest Hour
DESCRIPTION:Let’s have some fun with our Happy Hour! Every Tuesday to Friday from 2pm to 6pm!
URL:https://www.parlorokc.com/event/happiest-hour-6/2029-09-14/
CATEGORIES:Happy Hour
ATTACH;FMTTYPE=application/pdf:https://www.parlorokc.com/wp-content/uploads/2025/08/Happiest-Hour-2.pdf
END:VEVENT
BEGIN:VEVENT
DTSTART;TZID=America/Chicago:20290913T140000
DTEND;TZID=America/Chicago:20290913T180000
DTSTAMP:20260422T110508
CREATED:20241106T213943Z
LAST-MODIFIED:20251107T231148Z
UID:10010658-1884002400-1884016800@www.parlorokc.com
SUMMARY:Happiest Hour
DESCRIPTION:Let’s have some fun with our Happy Hour! Every Tuesday to Friday from 2pm to 6pm!
URL:https://www.parlorokc.com/event/happiest-hour-3/2029-09-13/
LOCATION:Parlor\, 11 NE 6th St\, Oklahoma City\, OK\, 73104\, United States
CATEGORIES:Happy Hour
ATTACH;FMTTYPE=application/pdf:https://www.parlorokc.com/wp-content/uploads/2024/08/Happiest-Hour-1.pdf
END:VEVENT
BEGIN:VEVENT
DTSTART;TZID=America/Chicago:20290912T193000
DTEND;TZID=America/Chicago:20290912T213000
DTSTAMP:20260422T110508
CREATED:20241107T003642Z
LAST-MODIFIED:20251107T225619Z
UID:10012068-1883935800-1883943000@www.parlorokc.com
SUMMARY:Music Bingo Wedneday
DESCRIPTION:Music Bingo with Prizes! Instead of a number\, listen to a sample of a song and mark the name of the song on your sheet.
URL:https://www.parlorokc.com/event/music-bingo-wedneday/2029-09-12/
CATEGORIES:Music Bingo
ATTACH;FMTTYPE=image/png:https://www.parlorokc.com/wp-content/uploads/2022/04/1.png
END:VEVENT
BEGIN:VEVENT
DTSTART;TZID=America/Chicago:20290912T140000
DTEND;TZID=America/Chicago:20290912T180000
DTSTAMP:20260422T110508
CREATED:20250803T224945Z
LAST-MODIFIED:20251107T231039Z
UID:10013787-1883916000-1883930400@www.parlorokc.com
SUMMARY:Happiest Hour
DESCRIPTION:Let’s have some fun with our Happy Hour! Every Tuesday to Friday from 2pm to 6pm!
URL:https://www.parlorokc.com/event/happiest-hour-6/2029-09-12/
CATEGORIES:Happy Hour
ATTACH;FMTTYPE=application/pdf:https://www.parlorokc.com/wp-content/uploads/2025/08/Happiest-Hour-2.pdf
END:VEVENT
BEGIN:VEVENT
DTSTART;TZID=America/Chicago:20290911T193000
DTEND;TZID=America/Chicago:20290911T210000
DTSTAMP:20260422T110508
CREATED:20241107T001309Z
LAST-MODIFIED:20241107T001310Z
UID:10011545-1883849400-1883854800@www.parlorokc.com
SUMMARY:Trivia Tuesday
DESCRIPTION:Join us every Tuesday Night from 7:30pm-9:30pm for our weekly trivia night. Hosted by BTK Productions\, battle against other teams to prove your knowledge. Prizes given to 1st\, 2nd\, & 3rd place winners.
URL:https://www.parlorokc.com/event/trivia-tuesday-5/2029-09-11/
LOCATION:Parlor\, 11 NE 6th St\, Oklahoma City\, OK\, 73104\, United States
ATTACH;FMTTYPE=image/png:https://www.parlorokc.com/wp-content/uploads/2022/04/2.png
END:VEVENT
BEGIN:VEVENT
DTSTART;TZID=America/Chicago:20290911T140000
DTEND;TZID=America/Chicago:20290911T180000
DTSTAMP:20260422T110508
CREATED:20241106T213943Z
LAST-MODIFIED:20251107T231148Z
UID:10010656-1883829600-1883844000@www.parlorokc.com
SUMMARY:Happiest Hour
DESCRIPTION:Let’s have some fun with our Happy Hour! Every Tuesday to Friday from 2pm to 6pm!
URL:https://www.parlorokc.com/event/happiest-hour-3/2029-09-11/
LOCATION:Parlor\, 11 NE 6th St\, Oklahoma City\, OK\, 73104\, United States
CATEGORIES:Happy Hour
ATTACH;FMTTYPE=application/pdf:https://www.parlorokc.com/wp-content/uploads/2024/08/Happiest-Hour-1.pdf
END:VEVENT
BEGIN:VEVENT
DTSTART;TZID=America/Chicago:20290910T110000
DTEND;TZID=America/Chicago:20290910T230000
DTSTAMP:20260422T110508
CREATED:20260320T005418Z
LAST-MODIFIED:20260320T005419Z
UID:10012604-1883732400-1883775600@www.parlorokc.com
SUMMARY:Closed for Cleaning & Staff Refresh; MOB Grill is open for lunch
DESCRIPTION:Closed for Cleaning & Staff Refresh. MOB Grill  is open for lunch from 11am-2pm!
URL:https://www.parlorokc.com/event/closed-for-cleaning-staff-refresh-2-2-2-2-2/2029-09-10/
LOCATION:Parlor\, 11 NE 6th St\, Oklahoma City\, OK\, 73104\, United States
ATTACH;FMTTYPE=image/png:https://www.parlorokc.com/wp-content/uploads/2024/06/Closed-for-cleaning-staff-refresh.png
END:VEVENT
BEGIN:VEVENT
DTSTART;TZID=America/Chicago:20290909T110000
DTEND;TZID=America/Chicago:20290909T180000
DTSTAMP:20260422T110508
CREATED:20250514T003239Z
LAST-MODIFIED:20250514T003239Z
UID:10012588-1883646000-1883671200@www.parlorokc.com
SUMMARY:Sunday Funday Brunch Bottomless Mimosas
DESCRIPTION:Come join us for brunch! We have a live DJ spinning bangers with BOTTOMLESS MIMOSAS!
URL:https://www.parlorokc.com/event/sunday-funday-brunch-2-2/2029-09-09/
ATTACH;FMTTYPE=image/png:https://www.parlorokc.com/wp-content/uploads/2022/11/Brunch-4-e1693251251292.png
END:VEVENT
BEGIN:VEVENT
DTSTART;TZID=America/Chicago:20290908T110000
DTEND;TZID=America/Chicago:20290908T180000
DTSTAMP:20260422T110508
CREATED:20250514T004801Z
LAST-MODIFIED:20250514T004801Z
UID:10013232-1883559600-1883584800@www.parlorokc.com
SUMMARY:Saturday Brunch
DESCRIPTION:Start your weekend with some Brunch cocktails! Mimosas\, Beermosas\, and Bloody Marys!
URL:https://www.parlorokc.com/event/saturday-brunch/2029-09-08/
LOCATION:Parlor\, 11 NE 6th St\, Oklahoma City\, OK\, 73104\, United States
CATEGORIES:Brunch
ATTACH;FMTTYPE=application/pdf:https://www.parlorokc.com/wp-content/uploads/2025/05/Untitled-design-3.pdf
END:VEVENT
BEGIN:VEVENT
DTSTART;TZID=America/Chicago:20290907T140000
DTEND;TZID=America/Chicago:20290907T180000
DTSTAMP:20260422T110508
CREATED:20250803T224945Z
LAST-MODIFIED:20251107T231039Z
UID:10013786-1883484000-1883498400@www.parlorokc.com
SUMMARY:Happiest Hour
DESCRIPTION:Let’s have some fun with our Happy Hour! Every Tuesday to Friday from 2pm to 6pm!
URL:https://www.parlorokc.com/event/happiest-hour-6/2029-09-07/
CATEGORIES:Happy Hour
ATTACH;FMTTYPE=application/pdf:https://www.parlorokc.com/wp-content/uploads/2025/08/Happiest-Hour-2.pdf
END:VEVENT
BEGIN:VEVENT
DTSTART;TZID=America/Chicago:20290906T140000
DTEND;TZID=America/Chicago:20290906T180000
DTSTAMP:20260422T110508
CREATED:20241106T213943Z
LAST-MODIFIED:20251107T231148Z
UID:10010654-1883397600-1883412000@www.parlorokc.com
SUMMARY:Happiest Hour
DESCRIPTION:Let’s have some fun with our Happy Hour! Every Tuesday to Friday from 2pm to 6pm!
URL:https://www.parlorokc.com/event/happiest-hour-3/2029-09-06/
LOCATION:Parlor\, 11 NE 6th St\, Oklahoma City\, OK\, 73104\, United States
CATEGORIES:Happy Hour
ATTACH;FMTTYPE=application/pdf:https://www.parlorokc.com/wp-content/uploads/2024/08/Happiest-Hour-1.pdf
END:VEVENT
END:VCALENDAR