BEGIN:VCALENDAR
VERSION:2.0
PRODID:-//Parlor OKC - Oklahoma Citys Finest Food Hall - ECPv6.15.20//NONSGML v1.0//EN
CALSCALE:GREGORIAN
METHOD:PUBLISH
X-WR-CALNAME:Parlor OKC - Oklahoma Citys Finest Food Hall
X-ORIGINAL-URL:https://www.parlorokc.com
X-WR-CALDESC:Events for Parlor OKC - Oklahoma Citys Finest Food Hall
REFRESH-INTERVAL;VALUE=DURATION:PT1H
X-Robots-Tag:noindex
X-PUBLISHED-TTL:PT1H
BEGIN:VTIMEZONE
TZID:America/Chicago
BEGIN:DAYLIGHT
TZOFFSETFROM:-0600
TZOFFSETTO:-0500
TZNAME:CDT
DTSTART:20280312T080000
END:DAYLIGHT
BEGIN:STANDARD
TZOFFSETFROM:-0500
TZOFFSETTO:-0600
TZNAME:CST
DTSTART:20281105T070000
END:STANDARD
BEGIN:DAYLIGHT
TZOFFSETFROM:-0600
TZOFFSETTO:-0500
TZNAME:CDT
DTSTART:20290311T080000
END:DAYLIGHT
BEGIN:STANDARD
TZOFFSETFROM:-0500
TZOFFSETTO:-0600
TZNAME:CST
DTSTART:20291104T070000
END:STANDARD
BEGIN:DAYLIGHT
TZOFFSETFROM:-0600
TZOFFSETTO:-0500
TZNAME:CDT
DTSTART:20300310T080000
END:DAYLIGHT
BEGIN:STANDARD
TZOFFSETFROM:-0500
TZOFFSETTO:-0600
TZNAME:CST
DTSTART:20301103T070000
END:STANDARD
END:VTIMEZONE
BEGIN:VEVENT
DTSTART;TZID=America/Chicago:20290903T110000
DTEND;TZID=America/Chicago:20290903T230000
DTSTAMP:20260425T212454
CREATED:20260320T005418Z
LAST-MODIFIED:20260320T005419Z
UID:10012603-1883127600-1883170800@www.parlorokc.com
SUMMARY:Closed for Cleaning & Staff Refresh; MOB Grill is open for lunch
DESCRIPTION:Closed for Cleaning & Staff Refresh. MOB Grill  is open for lunch from 11am-2pm!
URL:https://www.parlorokc.com/event/closed-for-cleaning-staff-refresh-2-2-2-2-2/2029-09-03/
LOCATION:Parlor\, 11 NE 6th St\, Oklahoma City\, OK\, 73104\, United States
ATTACH;FMTTYPE=image/png:https://www.parlorokc.com/wp-content/uploads/2024/06/Closed-for-cleaning-staff-refresh.png
END:VEVENT
BEGIN:VEVENT
DTSTART;TZID=America/Chicago:20290902T110000
DTEND;TZID=America/Chicago:20290902T180000
DTSTAMP:20260425T212454
CREATED:20250514T003239Z
LAST-MODIFIED:20250514T003239Z
UID:10012587-1883041200-1883066400@www.parlorokc.com
SUMMARY:Sunday Funday Brunch Bottomless Mimosas
DESCRIPTION:Come join us for brunch! We have a live DJ spinning bangers with BOTTOMLESS MIMOSAS!
URL:https://www.parlorokc.com/event/sunday-funday-brunch-2-2/2029-09-02/
LOCATION:OK
ATTACH;FMTTYPE=image/png:https://www.parlorokc.com/wp-content/uploads/2022/11/Brunch-4-e1693251251292.png
END:VEVENT
BEGIN:VEVENT
DTSTART;TZID=America/Chicago:20290901T110000
DTEND;TZID=America/Chicago:20290901T180000
DTSTAMP:20260425T212454
CREATED:20250514T004801Z
LAST-MODIFIED:20250514T004801Z
UID:10013231-1882954800-1882980000@www.parlorokc.com
SUMMARY:Saturday Brunch
DESCRIPTION:Start your weekend with some Brunch cocktails! Mimosas\, Beermosas\, and Bloody Marys!
URL:https://www.parlorokc.com/event/saturday-brunch/2029-09-01/
LOCATION:Parlor\, 11 NE 6th St\, Oklahoma City\, OK\, 73104\, United States
CATEGORIES:Brunch
ATTACH;FMTTYPE=application/pdf:https://www.parlorokc.com/wp-content/uploads/2025/05/Untitled-design-3.pdf
END:VEVENT
BEGIN:VEVENT
DTSTART;TZID=America/Chicago:20290831T140000
DTEND;TZID=America/Chicago:20290831T180000
DTSTAMP:20260425T212454
CREATED:20250803T224945Z
LAST-MODIFIED:20251107T231039Z
UID:10013784-1882879200-1882893600@www.parlorokc.com
SUMMARY:Happiest Hour
DESCRIPTION:Let’s have some fun with our Happy Hour! Every Tuesday to Friday from 2pm to 6pm!
URL:https://www.parlorokc.com/event/happiest-hour-6/2029-08-31/
LOCATION:OK
CATEGORIES:Happy Hour
ATTACH;FMTTYPE=application/pdf:https://www.parlorokc.com/wp-content/uploads/2025/08/Happiest-Hour-2.pdf
END:VEVENT
BEGIN:VEVENT
DTSTART;TZID=America/Chicago:20290830T140000
DTEND;TZID=America/Chicago:20290830T180000
DTSTAMP:20260425T212454
CREATED:20241106T213943Z
LAST-MODIFIED:20251107T231148Z
UID:10010650-1882792800-1882807200@www.parlorokc.com
SUMMARY:Happiest Hour
DESCRIPTION:Let’s have some fun with our Happy Hour! Every Tuesday to Friday from 2pm to 6pm!
URL:https://www.parlorokc.com/event/happiest-hour-3/2029-08-30/
LOCATION:Parlor\, 11 NE 6th St\, Oklahoma City\, OK\, 73104\, United States
CATEGORIES:Happy Hour
ATTACH;FMTTYPE=application/pdf:https://www.parlorokc.com/wp-content/uploads/2024/08/Happiest-Hour-1.pdf
END:VEVENT
BEGIN:VEVENT
DTSTART;TZID=America/Chicago:20290829T193000
DTEND;TZID=America/Chicago:20290829T213000
DTSTAMP:20260425T212454
CREATED:20241107T003642Z
LAST-MODIFIED:20251107T225619Z
UID:10012066-1882726200-1882733400@www.parlorokc.com
SUMMARY:Music Bingo Wedneday
DESCRIPTION:Music Bingo with Prizes! Instead of a number\, listen to a sample of a song and mark the name of the song on your sheet.
URL:https://www.parlorokc.com/event/music-bingo-wedneday/2029-08-29/
LOCATION:OK
CATEGORIES:Music Bingo
ATTACH;FMTTYPE=image/png:https://www.parlorokc.com/wp-content/uploads/2022/04/1.png
END:VEVENT
BEGIN:VEVENT
DTSTART;TZID=America/Chicago:20290829T140000
DTEND;TZID=America/Chicago:20290829T180000
DTSTAMP:20260425T212454
CREATED:20250803T224945Z
LAST-MODIFIED:20251107T231039Z
UID:10013783-1882706400-1882720800@www.parlorokc.com
SUMMARY:Happiest Hour
DESCRIPTION:Let’s have some fun with our Happy Hour! Every Tuesday to Friday from 2pm to 6pm!
URL:https://www.parlorokc.com/event/happiest-hour-6/2029-08-29/
LOCATION:OK
CATEGORIES:Happy Hour
ATTACH;FMTTYPE=application/pdf:https://www.parlorokc.com/wp-content/uploads/2025/08/Happiest-Hour-2.pdf
END:VEVENT
BEGIN:VEVENT
DTSTART;TZID=America/Chicago:20290828T193000
DTEND;TZID=America/Chicago:20290828T210000
DTSTAMP:20260425T212454
CREATED:20241107T001309Z
LAST-MODIFIED:20241107T001310Z
UID:10011543-1882639800-1882645200@www.parlorokc.com
SUMMARY:Trivia Tuesday
DESCRIPTION:Join us every Tuesday Night from 7:30pm-9:30pm for our weekly trivia night. Hosted by BTK Productions\, battle against other teams to prove your knowledge. Prizes given to 1st\, 2nd\, & 3rd place winners.
URL:https://www.parlorokc.com/event/trivia-tuesday-5/2029-08-28/
LOCATION:Parlor\, 11 NE 6th St\, Oklahoma City\, OK\, 73104\, United States
ATTACH;FMTTYPE=image/png:https://www.parlorokc.com/wp-content/uploads/2022/04/2.png
END:VEVENT
BEGIN:VEVENT
DTSTART;TZID=America/Chicago:20290828T140000
DTEND;TZID=America/Chicago:20290828T180000
DTSTAMP:20260425T212454
CREATED:20241106T213943Z
LAST-MODIFIED:20251107T231148Z
UID:10010648-1882620000-1882634400@www.parlorokc.com
SUMMARY:Happiest Hour
DESCRIPTION:Let’s have some fun with our Happy Hour! Every Tuesday to Friday from 2pm to 6pm!
URL:https://www.parlorokc.com/event/happiest-hour-3/2029-08-28/
LOCATION:Parlor\, 11 NE 6th St\, Oklahoma City\, OK\, 73104\, United States
CATEGORIES:Happy Hour
ATTACH;FMTTYPE=application/pdf:https://www.parlorokc.com/wp-content/uploads/2024/08/Happiest-Hour-1.pdf
END:VEVENT
BEGIN:VEVENT
DTSTART;TZID=America/Chicago:20290827T110000
DTEND;TZID=America/Chicago:20290827T230000
DTSTAMP:20260425T212454
CREATED:20260320T005418Z
LAST-MODIFIED:20260320T005419Z
UID:10012602-1882522800-1882566000@www.parlorokc.com
SUMMARY:Closed for Cleaning & Staff Refresh; MOB Grill is open for lunch
DESCRIPTION:Closed for Cleaning & Staff Refresh. MOB Grill  is open for lunch from 11am-2pm!
URL:https://www.parlorokc.com/event/closed-for-cleaning-staff-refresh-2-2-2-2-2/2029-08-27/
LOCATION:Parlor\, 11 NE 6th St\, Oklahoma City\, OK\, 73104\, United States
ATTACH;FMTTYPE=image/png:https://www.parlorokc.com/wp-content/uploads/2024/06/Closed-for-cleaning-staff-refresh.png
END:VEVENT
BEGIN:VEVENT
DTSTART;TZID=America/Chicago:20290826T110000
DTEND;TZID=America/Chicago:20290826T180000
DTSTAMP:20260425T212454
CREATED:20250514T003239Z
LAST-MODIFIED:20250514T003239Z
UID:10012586-1882436400-1882461600@www.parlorokc.com
SUMMARY:Sunday Funday Brunch Bottomless Mimosas
DESCRIPTION:Come join us for brunch! We have a live DJ spinning bangers with BOTTOMLESS MIMOSAS!
URL:https://www.parlorokc.com/event/sunday-funday-brunch-2-2/2029-08-26/
LOCATION:OK
ATTACH;FMTTYPE=image/png:https://www.parlorokc.com/wp-content/uploads/2022/11/Brunch-4-e1693251251292.png
END:VEVENT
BEGIN:VEVENT
DTSTART;TZID=America/Chicago:20290825T110000
DTEND;TZID=America/Chicago:20290825T180000
DTSTAMP:20260425T212454
CREATED:20250514T004801Z
LAST-MODIFIED:20250514T004801Z
UID:10013230-1882350000-1882375200@www.parlorokc.com
SUMMARY:Saturday Brunch
DESCRIPTION:Start your weekend with some Brunch cocktails! Mimosas\, Beermosas\, and Bloody Marys!
URL:https://www.parlorokc.com/event/saturday-brunch/2029-08-25/
LOCATION:Parlor\, 11 NE 6th St\, Oklahoma City\, OK\, 73104\, United States
CATEGORIES:Brunch
ATTACH;FMTTYPE=application/pdf:https://www.parlorokc.com/wp-content/uploads/2025/05/Untitled-design-3.pdf
END:VEVENT
BEGIN:VEVENT
DTSTART;TZID=America/Chicago:20290824T140000
DTEND;TZID=America/Chicago:20290824T180000
DTSTAMP:20260425T212454
CREATED:20250803T224945Z
LAST-MODIFIED:20251107T231039Z
UID:10013782-1882274400-1882288800@www.parlorokc.com
SUMMARY:Happiest Hour
DESCRIPTION:Let’s have some fun with our Happy Hour! Every Tuesday to Friday from 2pm to 6pm!
URL:https://www.parlorokc.com/event/happiest-hour-6/2029-08-24/
LOCATION:OK
CATEGORIES:Happy Hour
ATTACH;FMTTYPE=application/pdf:https://www.parlorokc.com/wp-content/uploads/2025/08/Happiest-Hour-2.pdf
END:VEVENT
BEGIN:VEVENT
DTSTART;TZID=America/Chicago:20290823T140000
DTEND;TZID=America/Chicago:20290823T180000
DTSTAMP:20260425T212454
CREATED:20241106T213943Z
LAST-MODIFIED:20251107T231148Z
UID:10010646-1882188000-1882202400@www.parlorokc.com
SUMMARY:Happiest Hour
DESCRIPTION:Let’s have some fun with our Happy Hour! Every Tuesday to Friday from 2pm to 6pm!
URL:https://www.parlorokc.com/event/happiest-hour-3/2029-08-23/
LOCATION:Parlor\, 11 NE 6th St\, Oklahoma City\, OK\, 73104\, United States
CATEGORIES:Happy Hour
ATTACH;FMTTYPE=application/pdf:https://www.parlorokc.com/wp-content/uploads/2024/08/Happiest-Hour-1.pdf
END:VEVENT
BEGIN:VEVENT
DTSTART;TZID=America/Chicago:20290822T193000
DTEND;TZID=America/Chicago:20290822T213000
DTSTAMP:20260425T212454
CREATED:20241107T003642Z
LAST-MODIFIED:20251107T225619Z
UID:10012065-1882121400-1882128600@www.parlorokc.com
SUMMARY:Music Bingo Wedneday
DESCRIPTION:Music Bingo with Prizes! Instead of a number\, listen to a sample of a song and mark the name of the song on your sheet.
URL:https://www.parlorokc.com/event/music-bingo-wedneday/2029-08-22/
LOCATION:OK
CATEGORIES:Music Bingo
ATTACH;FMTTYPE=image/png:https://www.parlorokc.com/wp-content/uploads/2022/04/1.png
END:VEVENT
BEGIN:VEVENT
DTSTART;TZID=America/Chicago:20290822T140000
DTEND;TZID=America/Chicago:20290822T180000
DTSTAMP:20260425T212454
CREATED:20250803T224945Z
LAST-MODIFIED:20251107T231039Z
UID:10013781-1882101600-1882116000@www.parlorokc.com
SUMMARY:Happiest Hour
DESCRIPTION:Let’s have some fun with our Happy Hour! Every Tuesday to Friday from 2pm to 6pm!
URL:https://www.parlorokc.com/event/happiest-hour-6/2029-08-22/
LOCATION:OK
CATEGORIES:Happy Hour
ATTACH;FMTTYPE=application/pdf:https://www.parlorokc.com/wp-content/uploads/2025/08/Happiest-Hour-2.pdf
END:VEVENT
BEGIN:VEVENT
DTSTART;TZID=America/Chicago:20290821T193000
DTEND;TZID=America/Chicago:20290821T210000
DTSTAMP:20260425T212454
CREATED:20241107T001309Z
LAST-MODIFIED:20241107T001310Z
UID:10011542-1882035000-1882040400@www.parlorokc.com
SUMMARY:Trivia Tuesday
DESCRIPTION:Join us every Tuesday Night from 7:30pm-9:30pm for our weekly trivia night. Hosted by BTK Productions\, battle against other teams to prove your knowledge. Prizes given to 1st\, 2nd\, & 3rd place winners.
URL:https://www.parlorokc.com/event/trivia-tuesday-5/2029-08-21/
LOCATION:Parlor\, 11 NE 6th St\, Oklahoma City\, OK\, 73104\, United States
ATTACH;FMTTYPE=image/png:https://www.parlorokc.com/wp-content/uploads/2022/04/2.png
END:VEVENT
BEGIN:VEVENT
DTSTART;TZID=America/Chicago:20290821T140000
DTEND;TZID=America/Chicago:20290821T180000
DTSTAMP:20260425T212454
CREATED:20241106T213943Z
LAST-MODIFIED:20251107T231148Z
UID:10010644-1882015200-1882029600@www.parlorokc.com
SUMMARY:Happiest Hour
DESCRIPTION:Let’s have some fun with our Happy Hour! Every Tuesday to Friday from 2pm to 6pm!
URL:https://www.parlorokc.com/event/happiest-hour-3/2029-08-21/
LOCATION:Parlor\, 11 NE 6th St\, Oklahoma City\, OK\, 73104\, United States
CATEGORIES:Happy Hour
ATTACH;FMTTYPE=application/pdf:https://www.parlorokc.com/wp-content/uploads/2024/08/Happiest-Hour-1.pdf
END:VEVENT
BEGIN:VEVENT
DTSTART;TZID=America/Chicago:20290820T110000
DTEND;TZID=America/Chicago:20290820T230000
DTSTAMP:20260425T212454
CREATED:20260320T005418Z
LAST-MODIFIED:20260320T005419Z
UID:10012601-1881918000-1881961200@www.parlorokc.com
SUMMARY:Closed for Cleaning & Staff Refresh; MOB Grill is open for lunch
DESCRIPTION:Closed for Cleaning & Staff Refresh. MOB Grill  is open for lunch from 11am-2pm!
URL:https://www.parlorokc.com/event/closed-for-cleaning-staff-refresh-2-2-2-2-2/2029-08-20/
LOCATION:Parlor\, 11 NE 6th St\, Oklahoma City\, OK\, 73104\, United States
ATTACH;FMTTYPE=image/png:https://www.parlorokc.com/wp-content/uploads/2024/06/Closed-for-cleaning-staff-refresh.png
END:VEVENT
BEGIN:VEVENT
DTSTART;TZID=America/Chicago:20290819T110000
DTEND;TZID=America/Chicago:20290819T180000
DTSTAMP:20260425T212454
CREATED:20250514T003239Z
LAST-MODIFIED:20250514T003239Z
UID:10012585-1881831600-1881856800@www.parlorokc.com
SUMMARY:Sunday Funday Brunch Bottomless Mimosas
DESCRIPTION:Come join us for brunch! We have a live DJ spinning bangers with BOTTOMLESS MIMOSAS!
URL:https://www.parlorokc.com/event/sunday-funday-brunch-2-2/2029-08-19/
LOCATION:OK
ATTACH;FMTTYPE=image/png:https://www.parlorokc.com/wp-content/uploads/2022/11/Brunch-4-e1693251251292.png
END:VEVENT
BEGIN:VEVENT
DTSTART;TZID=America/Chicago:20290818T110000
DTEND;TZID=America/Chicago:20290818T180000
DTSTAMP:20260425T212454
CREATED:20250514T004801Z
LAST-MODIFIED:20250514T004801Z
UID:10013229-1881745200-1881770400@www.parlorokc.com
SUMMARY:Saturday Brunch
DESCRIPTION:Start your weekend with some Brunch cocktails! Mimosas\, Beermosas\, and Bloody Marys!
URL:https://www.parlorokc.com/event/saturday-brunch/2029-08-18/
LOCATION:Parlor\, 11 NE 6th St\, Oklahoma City\, OK\, 73104\, United States
CATEGORIES:Brunch
ATTACH;FMTTYPE=application/pdf:https://www.parlorokc.com/wp-content/uploads/2025/05/Untitled-design-3.pdf
END:VEVENT
BEGIN:VEVENT
DTSTART;TZID=America/Chicago:20290817T140000
DTEND;TZID=America/Chicago:20290817T180000
DTSTAMP:20260425T212454
CREATED:20250803T224945Z
LAST-MODIFIED:20251107T231039Z
UID:10013780-1881669600-1881684000@www.parlorokc.com
SUMMARY:Happiest Hour
DESCRIPTION:Let’s have some fun with our Happy Hour! Every Tuesday to Friday from 2pm to 6pm!
URL:https://www.parlorokc.com/event/happiest-hour-6/2029-08-17/
LOCATION:OK
CATEGORIES:Happy Hour
ATTACH;FMTTYPE=application/pdf:https://www.parlorokc.com/wp-content/uploads/2025/08/Happiest-Hour-2.pdf
END:VEVENT
BEGIN:VEVENT
DTSTART;TZID=America/Chicago:20290816T140000
DTEND;TZID=America/Chicago:20290816T180000
DTSTAMP:20260425T212454
CREATED:20241106T213943Z
LAST-MODIFIED:20251107T231148Z
UID:10010642-1881583200-1881597600@www.parlorokc.com
SUMMARY:Happiest Hour
DESCRIPTION:Let’s have some fun with our Happy Hour! Every Tuesday to Friday from 2pm to 6pm!
URL:https://www.parlorokc.com/event/happiest-hour-3/2029-08-16/
LOCATION:Parlor\, 11 NE 6th St\, Oklahoma City\, OK\, 73104\, United States
CATEGORIES:Happy Hour
ATTACH;FMTTYPE=application/pdf:https://www.parlorokc.com/wp-content/uploads/2024/08/Happiest-Hour-1.pdf
END:VEVENT
BEGIN:VEVENT
DTSTART;TZID=America/Chicago:20290815T193000
DTEND;TZID=America/Chicago:20290815T213000
DTSTAMP:20260425T212454
CREATED:20241107T003642Z
LAST-MODIFIED:20251107T225619Z
UID:10012064-1881516600-1881523800@www.parlorokc.com
SUMMARY:Music Bingo Wedneday
DESCRIPTION:Music Bingo with Prizes! Instead of a number\, listen to a sample of a song and mark the name of the song on your sheet.
URL:https://www.parlorokc.com/event/music-bingo-wedneday/2029-08-15/
LOCATION:OK
CATEGORIES:Music Bingo
ATTACH;FMTTYPE=image/png:https://www.parlorokc.com/wp-content/uploads/2022/04/1.png
END:VEVENT
BEGIN:VEVENT
DTSTART;TZID=America/Chicago:20290815T140000
DTEND;TZID=America/Chicago:20290815T180000
DTSTAMP:20260425T212454
CREATED:20250803T224945Z
LAST-MODIFIED:20251107T231039Z
UID:10013779-1881496800-1881511200@www.parlorokc.com
SUMMARY:Happiest Hour
DESCRIPTION:Let’s have some fun with our Happy Hour! Every Tuesday to Friday from 2pm to 6pm!
URL:https://www.parlorokc.com/event/happiest-hour-6/2029-08-15/
LOCATION:OK
CATEGORIES:Happy Hour
ATTACH;FMTTYPE=application/pdf:https://www.parlorokc.com/wp-content/uploads/2025/08/Happiest-Hour-2.pdf
END:VEVENT
BEGIN:VEVENT
DTSTART;TZID=America/Chicago:20290814T193000
DTEND;TZID=America/Chicago:20290814T210000
DTSTAMP:20260425T212454
CREATED:20241107T001309Z
LAST-MODIFIED:20241107T001310Z
UID:10011541-1881430200-1881435600@www.parlorokc.com
SUMMARY:Trivia Tuesday
DESCRIPTION:Join us every Tuesday Night from 7:30pm-9:30pm for our weekly trivia night. Hosted by BTK Productions\, battle against other teams to prove your knowledge. Prizes given to 1st\, 2nd\, & 3rd place winners.
URL:https://www.parlorokc.com/event/trivia-tuesday-5/2029-08-14/
LOCATION:Parlor\, 11 NE 6th St\, Oklahoma City\, OK\, 73104\, United States
ATTACH;FMTTYPE=image/png:https://www.parlorokc.com/wp-content/uploads/2022/04/2.png
END:VEVENT
BEGIN:VEVENT
DTSTART;TZID=America/Chicago:20290814T140000
DTEND;TZID=America/Chicago:20290814T180000
DTSTAMP:20260425T212454
CREATED:20241106T213943Z
LAST-MODIFIED:20251107T231148Z
UID:10010640-1881410400-1881424800@www.parlorokc.com
SUMMARY:Happiest Hour
DESCRIPTION:Let’s have some fun with our Happy Hour! Every Tuesday to Friday from 2pm to 6pm!
URL:https://www.parlorokc.com/event/happiest-hour-3/2029-08-14/
LOCATION:Parlor\, 11 NE 6th St\, Oklahoma City\, OK\, 73104\, United States
CATEGORIES:Happy Hour
ATTACH;FMTTYPE=application/pdf:https://www.parlorokc.com/wp-content/uploads/2024/08/Happiest-Hour-1.pdf
END:VEVENT
BEGIN:VEVENT
DTSTART;TZID=America/Chicago:20290813T110000
DTEND;TZID=America/Chicago:20290813T230000
DTSTAMP:20260425T212454
CREATED:20260320T005418Z
LAST-MODIFIED:20260320T005419Z
UID:10009372-1881313200-1881356400@www.parlorokc.com
SUMMARY:Closed for Cleaning & Staff Refresh; MOB Grill is open for lunch
DESCRIPTION:Closed for Cleaning & Staff Refresh. MOB Grill  is open for lunch from 11am-2pm!
URL:https://www.parlorokc.com/event/closed-for-cleaning-staff-refresh-2-2-2-2-2/2029-08-13/
LOCATION:Parlor\, 11 NE 6th St\, Oklahoma City\, OK\, 73104\, United States
ATTACH;FMTTYPE=image/png:https://www.parlorokc.com/wp-content/uploads/2024/06/Closed-for-cleaning-staff-refresh.png
END:VEVENT
BEGIN:VEVENT
DTSTART;TZID=America/Chicago:20290812T110000
DTEND;TZID=America/Chicago:20290812T180000
DTSTAMP:20260425T212454
CREATED:20250514T003239Z
LAST-MODIFIED:20250514T003239Z
UID:10012584-1881226800-1881252000@www.parlorokc.com
SUMMARY:Sunday Funday Brunch Bottomless Mimosas
DESCRIPTION:Come join us for brunch! We have a live DJ spinning bangers with BOTTOMLESS MIMOSAS!
URL:https://www.parlorokc.com/event/sunday-funday-brunch-2-2/2029-08-12/
LOCATION:OK
ATTACH;FMTTYPE=image/png:https://www.parlorokc.com/wp-content/uploads/2022/11/Brunch-4-e1693251251292.png
END:VEVENT
BEGIN:VEVENT
DTSTART;TZID=America/Chicago:20290811T110000
DTEND;TZID=America/Chicago:20290811T180000
DTSTAMP:20260425T212454
CREATED:20250514T004801Z
LAST-MODIFIED:20250514T004801Z
UID:10013228-1881140400-1881165600@www.parlorokc.com
SUMMARY:Saturday Brunch
DESCRIPTION:Start your weekend with some Brunch cocktails! Mimosas\, Beermosas\, and Bloody Marys!
URL:https://www.parlorokc.com/event/saturday-brunch/2029-08-11/
LOCATION:Parlor\, 11 NE 6th St\, Oklahoma City\, OK\, 73104\, United States
CATEGORIES:Brunch
ATTACH;FMTTYPE=application/pdf:https://www.parlorokc.com/wp-content/uploads/2025/05/Untitled-design-3.pdf
END:VEVENT
END:VCALENDAR