BEGIN:VCALENDAR
VERSION:2.0
PRODID:-//Parlor OKC - Oklahoma Citys Finest Food Hall - ECPv6.15.20//NONSGML v1.0//EN
CALSCALE:GREGORIAN
METHOD:PUBLISH
X-WR-CALNAME:Parlor OKC - Oklahoma Citys Finest Food Hall
X-ORIGINAL-URL:https://www.parlorokc.com
X-WR-CALDESC:Events for Parlor OKC - Oklahoma Citys Finest Food Hall
REFRESH-INTERVAL;VALUE=DURATION:PT1H
X-Robots-Tag:noindex
X-PUBLISHED-TTL:PT1H
BEGIN:VTIMEZONE
TZID:America/Chicago
BEGIN:DAYLIGHT
TZOFFSETFROM:-0600
TZOFFSETTO:-0500
TZNAME:CDT
DTSTART:20270314T080000
END:DAYLIGHT
BEGIN:STANDARD
TZOFFSETFROM:-0500
TZOFFSETTO:-0600
TZNAME:CST
DTSTART:20271107T070000
END:STANDARD
BEGIN:DAYLIGHT
TZOFFSETFROM:-0600
TZOFFSETTO:-0500
TZNAME:CDT
DTSTART:20280312T080000
END:DAYLIGHT
BEGIN:STANDARD
TZOFFSETFROM:-0500
TZOFFSETTO:-0600
TZNAME:CST
DTSTART:20281105T070000
END:STANDARD
BEGIN:DAYLIGHT
TZOFFSETFROM:-0600
TZOFFSETTO:-0500
TZNAME:CDT
DTSTART:20290311T080000
END:DAYLIGHT
BEGIN:STANDARD
TZOFFSETFROM:-0500
TZOFFSETTO:-0600
TZNAME:CST
DTSTART:20291104T070000
END:STANDARD
END:VTIMEZONE
BEGIN:VEVENT
DTSTART;TZID=America/Chicago:20280209T140000
DTEND;TZID=America/Chicago:20280209T180000
DTSTAMP:20260423T202616
CREATED:20250803T224945Z
LAST-MODIFIED:20251107T231039Z
UID:10013621-1833717600-1833732000@www.parlorokc.com
SUMMARY:Happiest Hour
DESCRIPTION:Let’s have some fun with our Happy Hour! Every Tuesday to Friday from 2pm to 6pm!
URL:https://www.parlorokc.com/event/happiest-hour-6/2028-02-09/
LOCATION:OK
CATEGORIES:Happy Hour
ATTACH;FMTTYPE=application/pdf:https://www.parlorokc.com/wp-content/uploads/2025/08/Happiest-Hour-2.pdf
END:VEVENT
BEGIN:VEVENT
DTSTART;TZID=America/Chicago:20280209T193000
DTEND;TZID=America/Chicago:20280209T213000
DTSTAMP:20260423T202616
CREATED:20241107T003642Z
LAST-MODIFIED:20251107T225619Z
UID:10011985-1833737400-1833744600@www.parlorokc.com
SUMMARY:Music Bingo Wedneday
DESCRIPTION:Music Bingo with Prizes! Instead of a number\, listen to a sample of a song and mark the name of the song on your sheet.
URL:https://www.parlorokc.com/event/music-bingo-wedneday/2028-02-09/
LOCATION:OK
CATEGORIES:Music Bingo
ATTACH;FMTTYPE=image/png:https://www.parlorokc.com/wp-content/uploads/2022/04/1.png
END:VEVENT
BEGIN:VEVENT
DTSTART;TZID=America/Chicago:20280210T140000
DTEND;TZID=America/Chicago:20280210T180000
DTSTAMP:20260423T202616
CREATED:20241106T213943Z
LAST-MODIFIED:20251107T231148Z
UID:10010326-1833804000-1833818400@www.parlorokc.com
SUMMARY:Happiest Hour
DESCRIPTION:Let’s have some fun with our Happy Hour! Every Tuesday to Friday from 2pm to 6pm!
URL:https://www.parlorokc.com/event/happiest-hour-3/2028-02-10/
LOCATION:Parlor\, 11 NE 6th St\, Oklahoma City\, OK\, 73104\, United States
CATEGORIES:Happy Hour
ATTACH;FMTTYPE=application/pdf:https://www.parlorokc.com/wp-content/uploads/2024/08/Happiest-Hour-1.pdf
END:VEVENT
BEGIN:VEVENT
DTSTART;TZID=America/Chicago:20280211T140000
DTEND;TZID=America/Chicago:20280211T180000
DTSTAMP:20260423T202616
CREATED:20250803T224945Z
LAST-MODIFIED:20251107T231039Z
UID:10013622-1833890400-1833904800@www.parlorokc.com
SUMMARY:Happiest Hour
DESCRIPTION:Let’s have some fun with our Happy Hour! Every Tuesday to Friday from 2pm to 6pm!
URL:https://www.parlorokc.com/event/happiest-hour-6/2028-02-11/
LOCATION:OK
CATEGORIES:Happy Hour
ATTACH;FMTTYPE=application/pdf:https://www.parlorokc.com/wp-content/uploads/2025/08/Happiest-Hour-2.pdf
END:VEVENT
BEGIN:VEVENT
DTSTART;TZID=America/Chicago:20280212T110000
DTEND;TZID=America/Chicago:20280212T180000
DTSTAMP:20260423T202616
CREATED:20250514T004801Z
LAST-MODIFIED:20250514T004801Z
UID:10013150-1833966000-1833991200@www.parlorokc.com
SUMMARY:Saturday Brunch
DESCRIPTION:Start your weekend with some Brunch cocktails! Mimosas\, Beermosas\, and Bloody Marys!
URL:https://www.parlorokc.com/event/saturday-brunch/2028-02-12/
LOCATION:Parlor\, 11 NE 6th St\, Oklahoma City\, OK\, 73104\, United States
CATEGORIES:Brunch
ATTACH;FMTTYPE=application/pdf:https://www.parlorokc.com/wp-content/uploads/2025/05/Untitled-design-3.pdf
END:VEVENT
BEGIN:VEVENT
DTSTART;TZID=America/Chicago:20280213T110000
DTEND;TZID=America/Chicago:20280213T180000
DTSTAMP:20260423T202616
CREATED:20250514T003239Z
LAST-MODIFIED:20250514T003239Z
UID:10012506-1834052400-1834077600@www.parlorokc.com
SUMMARY:Sunday Funday Brunch Bottomless Mimosas
DESCRIPTION:Come join us for brunch! We have a live DJ spinning bangers with BOTTOMLESS MIMOSAS!
URL:https://www.parlorokc.com/event/sunday-funday-brunch-2-2/2028-02-13/
LOCATION:OK
ATTACH;FMTTYPE=image/png:https://www.parlorokc.com/wp-content/uploads/2022/11/Brunch-4-e1693251251292.png
END:VEVENT
BEGIN:VEVENT
DTSTART;TZID=America/Chicago:20280214T110000
DTEND;TZID=America/Chicago:20280214T230000
DTSTAMP:20260423T202616
CREATED:20260320T005418Z
LAST-MODIFIED:20260320T005419Z
UID:10009294-1834138800-1834182000@www.parlorokc.com
SUMMARY:Closed for Cleaning & Staff Refresh; MOB Grill is open for lunch
DESCRIPTION:Closed for Cleaning & Staff Refresh. MOB Grill  is open for lunch from 11am-2pm!
URL:https://www.parlorokc.com/event/closed-for-cleaning-staff-refresh-2-2-2-2-2/2028-02-14/
LOCATION:Parlor\, 11 NE 6th St\, Oklahoma City\, OK\, 73104\, United States
ATTACH;FMTTYPE=image/png:https://www.parlorokc.com/wp-content/uploads/2024/06/Closed-for-cleaning-staff-refresh.png
END:VEVENT
BEGIN:VEVENT
DTSTART;TZID=America/Chicago:20280215T140000
DTEND;TZID=America/Chicago:20280215T180000
DTSTAMP:20260423T202616
CREATED:20241106T213943Z
LAST-MODIFIED:20251107T231148Z
UID:10010328-1834236000-1834250400@www.parlorokc.com
SUMMARY:Happiest Hour
DESCRIPTION:Let’s have some fun with our Happy Hour! Every Tuesday to Friday from 2pm to 6pm!
URL:https://www.parlorokc.com/event/happiest-hour-3/2028-02-15/
LOCATION:Parlor\, 11 NE 6th St\, Oklahoma City\, OK\, 73104\, United States
CATEGORIES:Happy Hour
ATTACH;FMTTYPE=application/pdf:https://www.parlorokc.com/wp-content/uploads/2024/08/Happiest-Hour-1.pdf
END:VEVENT
BEGIN:VEVENT
DTSTART;TZID=America/Chicago:20280215T193000
DTEND;TZID=America/Chicago:20280215T210000
DTSTAMP:20260423T202616
CREATED:20241107T001309Z
LAST-MODIFIED:20241107T001310Z
UID:10011463-1834255800-1834261200@www.parlorokc.com
SUMMARY:Trivia Tuesday
DESCRIPTION:Join us every Tuesday Night from 7:30pm-9:30pm for our weekly trivia night. Hosted by BTK Productions\, battle against other teams to prove your knowledge. Prizes given to 1st\, 2nd\, & 3rd place winners.
URL:https://www.parlorokc.com/event/trivia-tuesday-5/2028-02-15/
LOCATION:Parlor\, 11 NE 6th St\, Oklahoma City\, OK\, 73104\, United States
ATTACH;FMTTYPE=image/png:https://www.parlorokc.com/wp-content/uploads/2022/04/2.png
END:VEVENT
BEGIN:VEVENT
DTSTART;TZID=America/Chicago:20280216T140000
DTEND;TZID=America/Chicago:20280216T180000
DTSTAMP:20260423T202616
CREATED:20250803T224945Z
LAST-MODIFIED:20251107T231039Z
UID:10013623-1834322400-1834336800@www.parlorokc.com
SUMMARY:Happiest Hour
DESCRIPTION:Let’s have some fun with our Happy Hour! Every Tuesday to Friday from 2pm to 6pm!
URL:https://www.parlorokc.com/event/happiest-hour-6/2028-02-16/
LOCATION:OK
CATEGORIES:Happy Hour
ATTACH;FMTTYPE=application/pdf:https://www.parlorokc.com/wp-content/uploads/2025/08/Happiest-Hour-2.pdf
END:VEVENT
BEGIN:VEVENT
DTSTART;TZID=America/Chicago:20280216T193000
DTEND;TZID=America/Chicago:20280216T213000
DTSTAMP:20260423T202616
CREATED:20241107T003642Z
LAST-MODIFIED:20251107T225619Z
UID:10011986-1834342200-1834349400@www.parlorokc.com
SUMMARY:Music Bingo Wedneday
DESCRIPTION:Music Bingo with Prizes! Instead of a number\, listen to a sample of a song and mark the name of the song on your sheet.
URL:https://www.parlorokc.com/event/music-bingo-wedneday/2028-02-16/
LOCATION:OK
CATEGORIES:Music Bingo
ATTACH;FMTTYPE=image/png:https://www.parlorokc.com/wp-content/uploads/2022/04/1.png
END:VEVENT
BEGIN:VEVENT
DTSTART;TZID=America/Chicago:20280217T140000
DTEND;TZID=America/Chicago:20280217T180000
DTSTAMP:20260423T202616
CREATED:20241106T213943Z
LAST-MODIFIED:20251107T231148Z
UID:10010330-1834408800-1834423200@www.parlorokc.com
SUMMARY:Happiest Hour
DESCRIPTION:Let’s have some fun with our Happy Hour! Every Tuesday to Friday from 2pm to 6pm!
URL:https://www.parlorokc.com/event/happiest-hour-3/2028-02-17/
LOCATION:Parlor\, 11 NE 6th St\, Oklahoma City\, OK\, 73104\, United States
CATEGORIES:Happy Hour
ATTACH;FMTTYPE=application/pdf:https://www.parlorokc.com/wp-content/uploads/2024/08/Happiest-Hour-1.pdf
END:VEVENT
BEGIN:VEVENT
DTSTART;TZID=America/Chicago:20280218T140000
DTEND;TZID=America/Chicago:20280218T180000
DTSTAMP:20260423T202616
CREATED:20250803T224945Z
LAST-MODIFIED:20251107T231039Z
UID:10013624-1834495200-1834509600@www.parlorokc.com
SUMMARY:Happiest Hour
DESCRIPTION:Let’s have some fun with our Happy Hour! Every Tuesday to Friday from 2pm to 6pm!
URL:https://www.parlorokc.com/event/happiest-hour-6/2028-02-18/
LOCATION:OK
CATEGORIES:Happy Hour
ATTACH;FMTTYPE=application/pdf:https://www.parlorokc.com/wp-content/uploads/2025/08/Happiest-Hour-2.pdf
END:VEVENT
BEGIN:VEVENT
DTSTART;TZID=America/Chicago:20280219T110000
DTEND;TZID=America/Chicago:20280219T180000
DTSTAMP:20260423T202616
CREATED:20250514T004801Z
LAST-MODIFIED:20250514T004801Z
UID:10013151-1834570800-1834596000@www.parlorokc.com
SUMMARY:Saturday Brunch
DESCRIPTION:Start your weekend with some Brunch cocktails! Mimosas\, Beermosas\, and Bloody Marys!
URL:https://www.parlorokc.com/event/saturday-brunch/2028-02-19/
LOCATION:Parlor\, 11 NE 6th St\, Oklahoma City\, OK\, 73104\, United States
CATEGORIES:Brunch
ATTACH;FMTTYPE=application/pdf:https://www.parlorokc.com/wp-content/uploads/2025/05/Untitled-design-3.pdf
END:VEVENT
BEGIN:VEVENT
DTSTART;TZID=America/Chicago:20280220T110000
DTEND;TZID=America/Chicago:20280220T180000
DTSTAMP:20260423T202616
CREATED:20250514T003239Z
LAST-MODIFIED:20250514T003239Z
UID:10012507-1834657200-1834682400@www.parlorokc.com
SUMMARY:Sunday Funday Brunch Bottomless Mimosas
DESCRIPTION:Come join us for brunch! We have a live DJ spinning bangers with BOTTOMLESS MIMOSAS!
URL:https://www.parlorokc.com/event/sunday-funday-brunch-2-2/2028-02-20/
LOCATION:OK
ATTACH;FMTTYPE=image/png:https://www.parlorokc.com/wp-content/uploads/2022/11/Brunch-4-e1693251251292.png
END:VEVENT
BEGIN:VEVENT
DTSTART;TZID=America/Chicago:20280221T110000
DTEND;TZID=America/Chicago:20280221T230000
DTSTAMP:20260423T202616
CREATED:20260320T005418Z
LAST-MODIFIED:20260320T005419Z
UID:10009295-1834743600-1834786800@www.parlorokc.com
SUMMARY:Closed for Cleaning & Staff Refresh; MOB Grill is open for lunch
DESCRIPTION:Closed for Cleaning & Staff Refresh. MOB Grill  is open for lunch from 11am-2pm!
URL:https://www.parlorokc.com/event/closed-for-cleaning-staff-refresh-2-2-2-2-2/2028-02-21/
LOCATION:Parlor\, 11 NE 6th St\, Oklahoma City\, OK\, 73104\, United States
ATTACH;FMTTYPE=image/png:https://www.parlorokc.com/wp-content/uploads/2024/06/Closed-for-cleaning-staff-refresh.png
END:VEVENT
BEGIN:VEVENT
DTSTART;TZID=America/Chicago:20280222T140000
DTEND;TZID=America/Chicago:20280222T180000
DTSTAMP:20260423T202616
CREATED:20241106T213943Z
LAST-MODIFIED:20251107T231148Z
UID:10010332-1834840800-1834855200@www.parlorokc.com
SUMMARY:Happiest Hour
DESCRIPTION:Let’s have some fun with our Happy Hour! Every Tuesday to Friday from 2pm to 6pm!
URL:https://www.parlorokc.com/event/happiest-hour-3/2028-02-22/
LOCATION:Parlor\, 11 NE 6th St\, Oklahoma City\, OK\, 73104\, United States
CATEGORIES:Happy Hour
ATTACH;FMTTYPE=application/pdf:https://www.parlorokc.com/wp-content/uploads/2024/08/Happiest-Hour-1.pdf
END:VEVENT
BEGIN:VEVENT
DTSTART;TZID=America/Chicago:20280222T193000
DTEND;TZID=America/Chicago:20280222T210000
DTSTAMP:20260423T202616
CREATED:20241107T001309Z
LAST-MODIFIED:20241107T001310Z
UID:10011464-1834860600-1834866000@www.parlorokc.com
SUMMARY:Trivia Tuesday
DESCRIPTION:Join us every Tuesday Night from 7:30pm-9:30pm for our weekly trivia night. Hosted by BTK Productions\, battle against other teams to prove your knowledge. Prizes given to 1st\, 2nd\, & 3rd place winners.
URL:https://www.parlorokc.com/event/trivia-tuesday-5/2028-02-22/
LOCATION:Parlor\, 11 NE 6th St\, Oklahoma City\, OK\, 73104\, United States
ATTACH;FMTTYPE=image/png:https://www.parlorokc.com/wp-content/uploads/2022/04/2.png
END:VEVENT
BEGIN:VEVENT
DTSTART;TZID=America/Chicago:20280223T140000
DTEND;TZID=America/Chicago:20280223T180000
DTSTAMP:20260423T202616
CREATED:20250803T224945Z
LAST-MODIFIED:20251107T231039Z
UID:10013625-1834927200-1834941600@www.parlorokc.com
SUMMARY:Happiest Hour
DESCRIPTION:Let’s have some fun with our Happy Hour! Every Tuesday to Friday from 2pm to 6pm!
URL:https://www.parlorokc.com/event/happiest-hour-6/2028-02-23/
LOCATION:OK
CATEGORIES:Happy Hour
ATTACH;FMTTYPE=application/pdf:https://www.parlorokc.com/wp-content/uploads/2025/08/Happiest-Hour-2.pdf
END:VEVENT
BEGIN:VEVENT
DTSTART;TZID=America/Chicago:20280223T193000
DTEND;TZID=America/Chicago:20280223T213000
DTSTAMP:20260423T202616
CREATED:20241107T003642Z
LAST-MODIFIED:20251107T225619Z
UID:10011987-1834947000-1834954200@www.parlorokc.com
SUMMARY:Music Bingo Wedneday
DESCRIPTION:Music Bingo with Prizes! Instead of a number\, listen to a sample of a song and mark the name of the song on your sheet.
URL:https://www.parlorokc.com/event/music-bingo-wedneday/2028-02-23/
LOCATION:OK
CATEGORIES:Music Bingo
ATTACH;FMTTYPE=image/png:https://www.parlorokc.com/wp-content/uploads/2022/04/1.png
END:VEVENT
BEGIN:VEVENT
DTSTART;TZID=America/Chicago:20280224T140000
DTEND;TZID=America/Chicago:20280224T180000
DTSTAMP:20260423T202616
CREATED:20241106T213943Z
LAST-MODIFIED:20251107T231148Z
UID:10010334-1835013600-1835028000@www.parlorokc.com
SUMMARY:Happiest Hour
DESCRIPTION:Let’s have some fun with our Happy Hour! Every Tuesday to Friday from 2pm to 6pm!
URL:https://www.parlorokc.com/event/happiest-hour-3/2028-02-24/
LOCATION:Parlor\, 11 NE 6th St\, Oklahoma City\, OK\, 73104\, United States
CATEGORIES:Happy Hour
ATTACH;FMTTYPE=application/pdf:https://www.parlorokc.com/wp-content/uploads/2024/08/Happiest-Hour-1.pdf
END:VEVENT
BEGIN:VEVENT
DTSTART;TZID=America/Chicago:20280225T140000
DTEND;TZID=America/Chicago:20280225T180000
DTSTAMP:20260423T202616
CREATED:20250803T224945Z
LAST-MODIFIED:20251107T231039Z
UID:10013626-1835100000-1835114400@www.parlorokc.com
SUMMARY:Happiest Hour
DESCRIPTION:Let’s have some fun with our Happy Hour! Every Tuesday to Friday from 2pm to 6pm!
URL:https://www.parlorokc.com/event/happiest-hour-6/2028-02-25/
LOCATION:OK
CATEGORIES:Happy Hour
ATTACH;FMTTYPE=application/pdf:https://www.parlorokc.com/wp-content/uploads/2025/08/Happiest-Hour-2.pdf
END:VEVENT
BEGIN:VEVENT
DTSTART;TZID=America/Chicago:20280226T110000
DTEND;TZID=America/Chicago:20280226T180000
DTSTAMP:20260423T202616
CREATED:20250514T004801Z
LAST-MODIFIED:20250514T004801Z
UID:10013152-1835175600-1835200800@www.parlorokc.com
SUMMARY:Saturday Brunch
DESCRIPTION:Start your weekend with some Brunch cocktails! Mimosas\, Beermosas\, and Bloody Marys!
URL:https://www.parlorokc.com/event/saturday-brunch/2028-02-26/
LOCATION:Parlor\, 11 NE 6th St\, Oklahoma City\, OK\, 73104\, United States
CATEGORIES:Brunch
ATTACH;FMTTYPE=application/pdf:https://www.parlorokc.com/wp-content/uploads/2025/05/Untitled-design-3.pdf
END:VEVENT
BEGIN:VEVENT
DTSTART;TZID=America/Chicago:20280227T110000
DTEND;TZID=America/Chicago:20280227T180000
DTSTAMP:20260423T202616
CREATED:20250514T003239Z
LAST-MODIFIED:20250514T003239Z
UID:10012508-1835262000-1835287200@www.parlorokc.com
SUMMARY:Sunday Funday Brunch Bottomless Mimosas
DESCRIPTION:Come join us for brunch! We have a live DJ spinning bangers with BOTTOMLESS MIMOSAS!
URL:https://www.parlorokc.com/event/sunday-funday-brunch-2-2/2028-02-27/
LOCATION:OK
ATTACH;FMTTYPE=image/png:https://www.parlorokc.com/wp-content/uploads/2022/11/Brunch-4-e1693251251292.png
END:VEVENT
BEGIN:VEVENT
DTSTART;TZID=America/Chicago:20280228T110000
DTEND;TZID=America/Chicago:20280228T230000
DTSTAMP:20260423T202616
CREATED:20260320T005418Z
LAST-MODIFIED:20260320T005419Z
UID:10009296-1835348400-1835391600@www.parlorokc.com
SUMMARY:Closed for Cleaning & Staff Refresh; MOB Grill is open for lunch
DESCRIPTION:Closed for Cleaning & Staff Refresh. MOB Grill  is open for lunch from 11am-2pm!
URL:https://www.parlorokc.com/event/closed-for-cleaning-staff-refresh-2-2-2-2-2/2028-02-28/
LOCATION:Parlor\, 11 NE 6th St\, Oklahoma City\, OK\, 73104\, United States
ATTACH;FMTTYPE=image/png:https://www.parlorokc.com/wp-content/uploads/2024/06/Closed-for-cleaning-staff-refresh.png
END:VEVENT
BEGIN:VEVENT
DTSTART;TZID=America/Chicago:20280229T140000
DTEND;TZID=America/Chicago:20280229T180000
DTSTAMP:20260423T202616
CREATED:20241106T213943Z
LAST-MODIFIED:20251107T231148Z
UID:10010336-1835445600-1835460000@www.parlorokc.com
SUMMARY:Happiest Hour
DESCRIPTION:Let’s have some fun with our Happy Hour! Every Tuesday to Friday from 2pm to 6pm!
URL:https://www.parlorokc.com/event/happiest-hour-3/2028-02-29/
LOCATION:Parlor\, 11 NE 6th St\, Oklahoma City\, OK\, 73104\, United States
CATEGORIES:Happy Hour
ATTACH;FMTTYPE=application/pdf:https://www.parlorokc.com/wp-content/uploads/2024/08/Happiest-Hour-1.pdf
END:VEVENT
BEGIN:VEVENT
DTSTART;TZID=America/Chicago:20280229T193000
DTEND;TZID=America/Chicago:20280229T210000
DTSTAMP:20260423T202616
CREATED:20241107T001309Z
LAST-MODIFIED:20241107T001310Z
UID:10011465-1835465400-1835470800@www.parlorokc.com
SUMMARY:Trivia Tuesday
DESCRIPTION:Join us every Tuesday Night from 7:30pm-9:30pm for our weekly trivia night. Hosted by BTK Productions\, battle against other teams to prove your knowledge. Prizes given to 1st\, 2nd\, & 3rd place winners.
URL:https://www.parlorokc.com/event/trivia-tuesday-5/2028-02-29/
LOCATION:Parlor\, 11 NE 6th St\, Oklahoma City\, OK\, 73104\, United States
ATTACH;FMTTYPE=image/png:https://www.parlorokc.com/wp-content/uploads/2022/04/2.png
END:VEVENT
BEGIN:VEVENT
DTSTART;TZID=America/Chicago:20280301T140000
DTEND;TZID=America/Chicago:20280301T180000
DTSTAMP:20260423T202616
CREATED:20250803T224945Z
LAST-MODIFIED:20251107T231039Z
UID:10013627-1835532000-1835546400@www.parlorokc.com
SUMMARY:Happiest Hour
DESCRIPTION:Let’s have some fun with our Happy Hour! Every Tuesday to Friday from 2pm to 6pm!
URL:https://www.parlorokc.com/event/happiest-hour-6/2028-03-01/
LOCATION:OK
CATEGORIES:Happy Hour
ATTACH;FMTTYPE=application/pdf:https://www.parlorokc.com/wp-content/uploads/2025/08/Happiest-Hour-2.pdf
END:VEVENT
BEGIN:VEVENT
DTSTART;TZID=America/Chicago:20280301T193000
DTEND;TZID=America/Chicago:20280301T213000
DTSTAMP:20260423T202616
CREATED:20241107T003642Z
LAST-MODIFIED:20251107T225619Z
UID:10011988-1835551800-1835559000@www.parlorokc.com
SUMMARY:Music Bingo Wedneday
DESCRIPTION:Music Bingo with Prizes! Instead of a number\, listen to a sample of a song and mark the name of the song on your sheet.
URL:https://www.parlorokc.com/event/music-bingo-wedneday/2028-03-01/
LOCATION:OK
CATEGORIES:Music Bingo
ATTACH;FMTTYPE=image/png:https://www.parlorokc.com/wp-content/uploads/2022/04/1.png
END:VEVENT
BEGIN:VEVENT
DTSTART;TZID=America/Chicago:20280302T140000
DTEND;TZID=America/Chicago:20280302T180000
DTSTAMP:20260423T202616
CREATED:20241106T213943Z
LAST-MODIFIED:20251107T231148Z
UID:10010338-1835618400-1835632800@www.parlorokc.com
SUMMARY:Happiest Hour
DESCRIPTION:Let’s have some fun with our Happy Hour! Every Tuesday to Friday from 2pm to 6pm!
URL:https://www.parlorokc.com/event/happiest-hour-3/2028-03-02/
LOCATION:Parlor\, 11 NE 6th St\, Oklahoma City\, OK\, 73104\, United States
CATEGORIES:Happy Hour
ATTACH;FMTTYPE=application/pdf:https://www.parlorokc.com/wp-content/uploads/2024/08/Happiest-Hour-1.pdf
END:VEVENT
END:VCALENDAR