BEGIN:VCALENDAR
VERSION:2.0
PRODID:-//Parlor OKC - Oklahoma Citys Finest Food Hall - ECPv6.15.20//NONSGML v1.0//EN
CALSCALE:GREGORIAN
METHOD:PUBLISH
X-ORIGINAL-URL:https://www.parlorokc.com
X-WR-CALDESC:Events for Parlor OKC - Oklahoma Citys Finest Food Hall
REFRESH-INTERVAL;VALUE=DURATION:PT1H
X-Robots-Tag:noindex
X-PUBLISHED-TTL:PT1H
BEGIN:VTIMEZONE
TZID:America/Chicago
BEGIN:DAYLIGHT
TZOFFSETFROM:-0600
TZOFFSETTO:-0500
TZNAME:CDT
DTSTART:20260308T080000
END:DAYLIGHT
BEGIN:STANDARD
TZOFFSETFROM:-0500
TZOFFSETTO:-0600
TZNAME:CST
DTSTART:20261101T070000
END:STANDARD
BEGIN:DAYLIGHT
TZOFFSETFROM:-0600
TZOFFSETTO:-0500
TZNAME:CDT
DTSTART:20270314T080000
END:DAYLIGHT
BEGIN:STANDARD
TZOFFSETFROM:-0500
TZOFFSETTO:-0600
TZNAME:CST
DTSTART:20271107T070000
END:STANDARD
BEGIN:DAYLIGHT
TZOFFSETFROM:-0600
TZOFFSETTO:-0500
TZNAME:CDT
DTSTART:20280312T080000
END:DAYLIGHT
BEGIN:STANDARD
TZOFFSETFROM:-0500
TZOFFSETTO:-0600
TZNAME:CST
DTSTART:20281105T070000
END:STANDARD
BEGIN:DAYLIGHT
TZOFFSETFROM:-0600
TZOFFSETTO:-0500
TZNAME:CDT
DTSTART:20290311T080000
END:DAYLIGHT
BEGIN:STANDARD
TZOFFSETFROM:-0500
TZOFFSETTO:-0600
TZNAME:CST
DTSTART:20291104T070000
END:STANDARD
END:VTIMEZONE
BEGIN:VEVENT
DTSTART;TZID=America/Chicago:20271219T110000
DTEND;TZID=America/Chicago:20271219T180000
DTSTAMP:20260423T054317
CREATED:20250514T003239Z
LAST-MODIFIED:20250514T003239Z
UID:10012498-1829214000-1829239200@www.parlorokc.com
SUMMARY:Sunday Funday Brunch Bottomless Mimosas
DESCRIPTION:Come join us for brunch! We have a live DJ spinning bangers with BOTTOMLESS MIMOSAS!
URL:https://www.parlorokc.com/event/sunday-funday-brunch-2-2/2027-12-19/
LOCATION:OK
ATTACH;FMTTYPE=image/png:https://www.parlorokc.com/wp-content/uploads/2022/11/Brunch-4-e1693251251292.png
END:VEVENT
BEGIN:VEVENT
DTSTART;TZID=America/Chicago:20271220T110000
DTEND;TZID=America/Chicago:20271220T230000
DTSTAMP:20260423T054317
CREATED:20260320T005418Z
LAST-MODIFIED:20260320T005419Z
UID:10009286-1829300400-1829343600@www.parlorokc.com
SUMMARY:Closed for Cleaning & Staff Refresh; MOB Grill is open for lunch
DESCRIPTION:Closed for Cleaning & Staff Refresh. MOB Grill  is open for lunch from 11am-2pm!
URL:https://www.parlorokc.com/event/closed-for-cleaning-staff-refresh-2-2-2-2-2/2027-12-20/
LOCATION:Parlor\, 11 NE 6th St\, Oklahoma City\, OK\, 73104\, United States
ATTACH;FMTTYPE=image/png:https://www.parlorokc.com/wp-content/uploads/2024/06/Closed-for-cleaning-staff-refresh.png
END:VEVENT
BEGIN:VEVENT
DTSTART;TZID=America/Chicago:20271221T140000
DTEND;TZID=America/Chicago:20271221T180000
DTSTAMP:20260423T054317
CREATED:20241106T213943Z
LAST-MODIFIED:20251107T231148Z
UID:10010296-1829397600-1829412000@www.parlorokc.com
SUMMARY:Happiest Hour
DESCRIPTION:Let’s have some fun with our Happy Hour! Every Tuesday to Friday from 2pm to 6pm!
URL:https://www.parlorokc.com/event/happiest-hour-3/2027-12-21/
LOCATION:Parlor\, 11 NE 6th St\, Oklahoma City\, OK\, 73104\, United States
CATEGORIES:Happy Hour
ATTACH;FMTTYPE=application/pdf:https://www.parlorokc.com/wp-content/uploads/2024/08/Happiest-Hour-1.pdf
END:VEVENT
BEGIN:VEVENT
DTSTART;TZID=America/Chicago:20271221T193000
DTEND;TZID=America/Chicago:20271221T210000
DTSTAMP:20260423T054317
CREATED:20241107T001309Z
LAST-MODIFIED:20241107T001310Z
UID:10011455-1829417400-1829422800@www.parlorokc.com
SUMMARY:Trivia Tuesday
DESCRIPTION:Join us every Tuesday Night from 7:30pm-9:30pm for our weekly trivia night. Hosted by BTK Productions\, battle against other teams to prove your knowledge. Prizes given to 1st\, 2nd\, & 3rd place winners.
URL:https://www.parlorokc.com/event/trivia-tuesday-5/2027-12-21/
LOCATION:Parlor\, 11 NE 6th St\, Oklahoma City\, OK\, 73104\, United States
ATTACH;FMTTYPE=image/png:https://www.parlorokc.com/wp-content/uploads/2022/04/2.png
END:VEVENT
BEGIN:VEVENT
DTSTART;TZID=America/Chicago:20271222T140000
DTEND;TZID=America/Chicago:20271222T180000
DTSTAMP:20260423T054317
CREATED:20250803T224945Z
LAST-MODIFIED:20251107T231039Z
UID:10013607-1829484000-1829498400@www.parlorokc.com
SUMMARY:Happiest Hour
DESCRIPTION:Let’s have some fun with our Happy Hour! Every Tuesday to Friday from 2pm to 6pm!
URL:https://www.parlorokc.com/event/happiest-hour-6/2027-12-22/
LOCATION:OK
CATEGORIES:Happy Hour
ATTACH;FMTTYPE=application/pdf:https://www.parlorokc.com/wp-content/uploads/2025/08/Happiest-Hour-2.pdf
END:VEVENT
BEGIN:VEVENT
DTSTART;TZID=America/Chicago:20271222T193000
DTEND;TZID=America/Chicago:20271222T213000
DTSTAMP:20260423T054317
CREATED:20241107T003642Z
LAST-MODIFIED:20251107T225619Z
UID:10011978-1829503800-1829511000@www.parlorokc.com
SUMMARY:Music Bingo Wedneday
DESCRIPTION:Music Bingo with Prizes! Instead of a number\, listen to a sample of a song and mark the name of the song on your sheet.
URL:https://www.parlorokc.com/event/music-bingo-wedneday/2027-12-22/
LOCATION:OK
CATEGORIES:Music Bingo
ATTACH;FMTTYPE=image/png:https://www.parlorokc.com/wp-content/uploads/2022/04/1.png
END:VEVENT
BEGIN:VEVENT
DTSTART;TZID=America/Chicago:20271223T140000
DTEND;TZID=America/Chicago:20271223T180000
DTSTAMP:20260423T054317
CREATED:20241106T213943Z
LAST-MODIFIED:20251107T231148Z
UID:10010298-1829570400-1829584800@www.parlorokc.com
SUMMARY:Happiest Hour
DESCRIPTION:Let’s have some fun with our Happy Hour! Every Tuesday to Friday from 2pm to 6pm!
URL:https://www.parlorokc.com/event/happiest-hour-3/2027-12-23/
LOCATION:Parlor\, 11 NE 6th St\, Oklahoma City\, OK\, 73104\, United States
CATEGORIES:Happy Hour
ATTACH;FMTTYPE=application/pdf:https://www.parlorokc.com/wp-content/uploads/2024/08/Happiest-Hour-1.pdf
END:VEVENT
BEGIN:VEVENT
DTSTART;TZID=America/Chicago:20271224T140000
DTEND;TZID=America/Chicago:20271224T180000
DTSTAMP:20260423T054317
CREATED:20250803T224945Z
LAST-MODIFIED:20251107T231039Z
UID:10013608-1829656800-1829671200@www.parlorokc.com
SUMMARY:Happiest Hour
DESCRIPTION:Let’s have some fun with our Happy Hour! Every Tuesday to Friday from 2pm to 6pm!
URL:https://www.parlorokc.com/event/happiest-hour-6/2027-12-24/
LOCATION:OK
CATEGORIES:Happy Hour
ATTACH;FMTTYPE=application/pdf:https://www.parlorokc.com/wp-content/uploads/2025/08/Happiest-Hour-2.pdf
END:VEVENT
BEGIN:VEVENT
DTSTART;TZID=America/Chicago:20271225T110000
DTEND;TZID=America/Chicago:20271225T180000
DTSTAMP:20260423T054317
CREATED:20250514T004801Z
LAST-MODIFIED:20250514T004801Z
UID:10013143-1829732400-1829757600@www.parlorokc.com
SUMMARY:Saturday Brunch
DESCRIPTION:Start your weekend with some Brunch cocktails! Mimosas\, Beermosas\, and Bloody Marys!
URL:https://www.parlorokc.com/event/saturday-brunch/2027-12-25/
LOCATION:Parlor\, 11 NE 6th St\, Oklahoma City\, OK\, 73104\, United States
CATEGORIES:Brunch
ATTACH;FMTTYPE=application/pdf:https://www.parlorokc.com/wp-content/uploads/2025/05/Untitled-design-3.pdf
END:VEVENT
BEGIN:VEVENT
DTSTART;TZID=America/Chicago:20271226T110000
DTEND;TZID=America/Chicago:20271226T180000
DTSTAMP:20260423T054317
CREATED:20250514T003239Z
LAST-MODIFIED:20250514T003239Z
UID:10012499-1829818800-1829844000@www.parlorokc.com
SUMMARY:Sunday Funday Brunch Bottomless Mimosas
DESCRIPTION:Come join us for brunch! We have a live DJ spinning bangers with BOTTOMLESS MIMOSAS!
URL:https://www.parlorokc.com/event/sunday-funday-brunch-2-2/2027-12-26/
LOCATION:OK
ATTACH;FMTTYPE=image/png:https://www.parlorokc.com/wp-content/uploads/2022/11/Brunch-4-e1693251251292.png
END:VEVENT
BEGIN:VEVENT
DTSTART;TZID=America/Chicago:20271227T110000
DTEND;TZID=America/Chicago:20271227T230000
DTSTAMP:20260423T054318
CREATED:20260320T005418Z
LAST-MODIFIED:20260320T005419Z
UID:10009287-1829905200-1829948400@www.parlorokc.com
SUMMARY:Closed for Cleaning & Staff Refresh; MOB Grill is open for lunch
DESCRIPTION:Closed for Cleaning & Staff Refresh. MOB Grill  is open for lunch from 11am-2pm!
URL:https://www.parlorokc.com/event/closed-for-cleaning-staff-refresh-2-2-2-2-2/2027-12-27/
LOCATION:Parlor\, 11 NE 6th St\, Oklahoma City\, OK\, 73104\, United States
ATTACH;FMTTYPE=image/png:https://www.parlorokc.com/wp-content/uploads/2024/06/Closed-for-cleaning-staff-refresh.png
END:VEVENT
BEGIN:VEVENT
DTSTART;TZID=America/Chicago:20271228T140000
DTEND;TZID=America/Chicago:20271228T180000
DTSTAMP:20260423T054318
CREATED:20241106T213943Z
LAST-MODIFIED:20251107T231148Z
UID:10010300-1830002400-1830016800@www.parlorokc.com
SUMMARY:Happiest Hour
DESCRIPTION:Let’s have some fun with our Happy Hour! Every Tuesday to Friday from 2pm to 6pm!
URL:https://www.parlorokc.com/event/happiest-hour-3/2027-12-28/
LOCATION:Parlor\, 11 NE 6th St\, Oklahoma City\, OK\, 73104\, United States
CATEGORIES:Happy Hour
ATTACH;FMTTYPE=application/pdf:https://www.parlorokc.com/wp-content/uploads/2024/08/Happiest-Hour-1.pdf
END:VEVENT
BEGIN:VEVENT
DTSTART;TZID=America/Chicago:20271228T193000
DTEND;TZID=America/Chicago:20271228T210000
DTSTAMP:20260423T054318
CREATED:20241107T001309Z
LAST-MODIFIED:20241107T001310Z
UID:10011456-1830022200-1830027600@www.parlorokc.com
SUMMARY:Trivia Tuesday
DESCRIPTION:Join us every Tuesday Night from 7:30pm-9:30pm for our weekly trivia night. Hosted by BTK Productions\, battle against other teams to prove your knowledge. Prizes given to 1st\, 2nd\, & 3rd place winners.
URL:https://www.parlorokc.com/event/trivia-tuesday-5/2027-12-28/
LOCATION:Parlor\, 11 NE 6th St\, Oklahoma City\, OK\, 73104\, United States
ATTACH;FMTTYPE=image/png:https://www.parlorokc.com/wp-content/uploads/2022/04/2.png
END:VEVENT
BEGIN:VEVENT
DTSTART;TZID=America/Chicago:20271229T140000
DTEND;TZID=America/Chicago:20271229T180000
DTSTAMP:20260423T054318
CREATED:20250803T224945Z
LAST-MODIFIED:20251107T231039Z
UID:10013609-1830088800-1830103200@www.parlorokc.com
SUMMARY:Happiest Hour
DESCRIPTION:Let’s have some fun with our Happy Hour! Every Tuesday to Friday from 2pm to 6pm!
URL:https://www.parlorokc.com/event/happiest-hour-6/2027-12-29/
LOCATION:OK
CATEGORIES:Happy Hour
ATTACH;FMTTYPE=application/pdf:https://www.parlorokc.com/wp-content/uploads/2025/08/Happiest-Hour-2.pdf
END:VEVENT
BEGIN:VEVENT
DTSTART;TZID=America/Chicago:20271229T193000
DTEND;TZID=America/Chicago:20271229T213000
DTSTAMP:20260423T054318
CREATED:20241107T003642Z
LAST-MODIFIED:20251107T225619Z
UID:10011979-1830108600-1830115800@www.parlorokc.com
SUMMARY:Music Bingo Wedneday
DESCRIPTION:Music Bingo with Prizes! Instead of a number\, listen to a sample of a song and mark the name of the song on your sheet.
URL:https://www.parlorokc.com/event/music-bingo-wedneday/2027-12-29/
LOCATION:OK
CATEGORIES:Music Bingo
ATTACH;FMTTYPE=image/png:https://www.parlorokc.com/wp-content/uploads/2022/04/1.png
END:VEVENT
BEGIN:VEVENT
DTSTART;TZID=America/Chicago:20271230T140000
DTEND;TZID=America/Chicago:20271230T180000
DTSTAMP:20260423T054318
CREATED:20241106T213943Z
LAST-MODIFIED:20251107T231148Z
UID:10010302-1830175200-1830189600@www.parlorokc.com
SUMMARY:Happiest Hour
DESCRIPTION:Let’s have some fun with our Happy Hour! Every Tuesday to Friday from 2pm to 6pm!
URL:https://www.parlorokc.com/event/happiest-hour-3/2027-12-30/
LOCATION:Parlor\, 11 NE 6th St\, Oklahoma City\, OK\, 73104\, United States
CATEGORIES:Happy Hour
ATTACH;FMTTYPE=application/pdf:https://www.parlorokc.com/wp-content/uploads/2024/08/Happiest-Hour-1.pdf
END:VEVENT
BEGIN:VEVENT
DTSTART;TZID=America/Chicago:20271231T140000
DTEND;TZID=America/Chicago:20271231T180000
DTSTAMP:20260423T054318
CREATED:20250803T224945Z
LAST-MODIFIED:20251107T231039Z
UID:10013610-1830261600-1830276000@www.parlorokc.com
SUMMARY:Happiest Hour
DESCRIPTION:Let’s have some fun with our Happy Hour! Every Tuesday to Friday from 2pm to 6pm!
URL:https://www.parlorokc.com/event/happiest-hour-6/2027-12-31/
LOCATION:OK
CATEGORIES:Happy Hour
ATTACH;FMTTYPE=application/pdf:https://www.parlorokc.com/wp-content/uploads/2025/08/Happiest-Hour-2.pdf
END:VEVENT
BEGIN:VEVENT
DTSTART;TZID=America/Chicago:20280101T110000
DTEND;TZID=America/Chicago:20280101T180000
DTSTAMP:20260423T054318
CREATED:20250514T004801Z
LAST-MODIFIED:20250514T004801Z
UID:10013144-1830337200-1830362400@www.parlorokc.com
SUMMARY:Saturday Brunch
DESCRIPTION:Start your weekend with some Brunch cocktails! Mimosas\, Beermosas\, and Bloody Marys!
URL:https://www.parlorokc.com/event/saturday-brunch/2028-01-01/
LOCATION:Parlor\, 11 NE 6th St\, Oklahoma City\, OK\, 73104\, United States
CATEGORIES:Brunch
ATTACH;FMTTYPE=application/pdf:https://www.parlorokc.com/wp-content/uploads/2025/05/Untitled-design-3.pdf
END:VEVENT
BEGIN:VEVENT
DTSTART;TZID=America/Chicago:20280102T110000
DTEND;TZID=America/Chicago:20280102T180000
DTSTAMP:20260423T054318
CREATED:20250514T003239Z
LAST-MODIFIED:20250514T003239Z
UID:10012500-1830423600-1830448800@www.parlorokc.com
SUMMARY:Sunday Funday Brunch Bottomless Mimosas
DESCRIPTION:Come join us for brunch! We have a live DJ spinning bangers with BOTTOMLESS MIMOSAS!
URL:https://www.parlorokc.com/event/sunday-funday-brunch-2-2/2028-01-02/
LOCATION:OK
ATTACH;FMTTYPE=image/png:https://www.parlorokc.com/wp-content/uploads/2022/11/Brunch-4-e1693251251292.png
END:VEVENT
BEGIN:VEVENT
DTSTART;TZID=America/Chicago:20280103T110000
DTEND;TZID=America/Chicago:20280103T230000
DTSTAMP:20260423T054318
CREATED:20260320T005418Z
LAST-MODIFIED:20260320T005419Z
UID:10009288-1830510000-1830553200@www.parlorokc.com
SUMMARY:Closed for Cleaning & Staff Refresh; MOB Grill is open for lunch
DESCRIPTION:Closed for Cleaning & Staff Refresh. MOB Grill  is open for lunch from 11am-2pm!
URL:https://www.parlorokc.com/event/closed-for-cleaning-staff-refresh-2-2-2-2-2/2028-01-03/
LOCATION:Parlor\, 11 NE 6th St\, Oklahoma City\, OK\, 73104\, United States
ATTACH;FMTTYPE=image/png:https://www.parlorokc.com/wp-content/uploads/2024/06/Closed-for-cleaning-staff-refresh.png
END:VEVENT
BEGIN:VEVENT
DTSTART;TZID=America/Chicago:20280104T140000
DTEND;TZID=America/Chicago:20280104T180000
DTSTAMP:20260423T054318
CREATED:20241106T213943Z
LAST-MODIFIED:20251107T231148Z
UID:10010304-1830607200-1830621600@www.parlorokc.com
SUMMARY:Happiest Hour
DESCRIPTION:Let’s have some fun with our Happy Hour! Every Tuesday to Friday from 2pm to 6pm!
URL:https://www.parlorokc.com/event/happiest-hour-3/2028-01-04/
LOCATION:Parlor\, 11 NE 6th St\, Oklahoma City\, OK\, 73104\, United States
CATEGORIES:Happy Hour
ATTACH;FMTTYPE=application/pdf:https://www.parlorokc.com/wp-content/uploads/2024/08/Happiest-Hour-1.pdf
END:VEVENT
BEGIN:VEVENT
DTSTART;TZID=America/Chicago:20280104T193000
DTEND;TZID=America/Chicago:20280104T210000
DTSTAMP:20260423T054318
CREATED:20241107T001309Z
LAST-MODIFIED:20241107T001310Z
UID:10011457-1830627000-1830632400@www.parlorokc.com
SUMMARY:Trivia Tuesday
DESCRIPTION:Join us every Tuesday Night from 7:30pm-9:30pm for our weekly trivia night. Hosted by BTK Productions\, battle against other teams to prove your knowledge. Prizes given to 1st\, 2nd\, & 3rd place winners.
URL:https://www.parlorokc.com/event/trivia-tuesday-5/2028-01-04/
LOCATION:Parlor\, 11 NE 6th St\, Oklahoma City\, OK\, 73104\, United States
ATTACH;FMTTYPE=image/png:https://www.parlorokc.com/wp-content/uploads/2022/04/2.png
END:VEVENT
BEGIN:VEVENT
DTSTART;TZID=America/Chicago:20280105T140000
DTEND;TZID=America/Chicago:20280105T180000
DTSTAMP:20260423T054318
CREATED:20250803T224945Z
LAST-MODIFIED:20251107T231039Z
UID:10013611-1830693600-1830708000@www.parlorokc.com
SUMMARY:Happiest Hour
DESCRIPTION:Let’s have some fun with our Happy Hour! Every Tuesday to Friday from 2pm to 6pm!
URL:https://www.parlorokc.com/event/happiest-hour-6/2028-01-05/
LOCATION:OK
CATEGORIES:Happy Hour
ATTACH;FMTTYPE=application/pdf:https://www.parlorokc.com/wp-content/uploads/2025/08/Happiest-Hour-2.pdf
END:VEVENT
BEGIN:VEVENT
DTSTART;TZID=America/Chicago:20280105T193000
DTEND;TZID=America/Chicago:20280105T213000
DTSTAMP:20260423T054318
CREATED:20241107T003642Z
LAST-MODIFIED:20251107T225619Z
UID:10011980-1830713400-1830720600@www.parlorokc.com
SUMMARY:Music Bingo Wedneday
DESCRIPTION:Music Bingo with Prizes! Instead of a number\, listen to a sample of a song and mark the name of the song on your sheet.
URL:https://www.parlorokc.com/event/music-bingo-wedneday/2028-01-05/
LOCATION:OK
CATEGORIES:Music Bingo
ATTACH;FMTTYPE=image/png:https://www.parlorokc.com/wp-content/uploads/2022/04/1.png
END:VEVENT
BEGIN:VEVENT
DTSTART;TZID=America/Chicago:20280106T140000
DTEND;TZID=America/Chicago:20280106T180000
DTSTAMP:20260423T054318
CREATED:20241106T213943Z
LAST-MODIFIED:20251107T231148Z
UID:10010306-1830780000-1830794400@www.parlorokc.com
SUMMARY:Happiest Hour
DESCRIPTION:Let’s have some fun with our Happy Hour! Every Tuesday to Friday from 2pm to 6pm!
URL:https://www.parlorokc.com/event/happiest-hour-3/2028-01-06/
LOCATION:Parlor\, 11 NE 6th St\, Oklahoma City\, OK\, 73104\, United States
CATEGORIES:Happy Hour
ATTACH;FMTTYPE=application/pdf:https://www.parlorokc.com/wp-content/uploads/2024/08/Happiest-Hour-1.pdf
END:VEVENT
BEGIN:VEVENT
DTSTART;TZID=America/Chicago:20280107T140000
DTEND;TZID=America/Chicago:20280107T180000
DTSTAMP:20260423T054318
CREATED:20250803T224945Z
LAST-MODIFIED:20251107T231039Z
UID:10013612-1830866400-1830880800@www.parlorokc.com
SUMMARY:Happiest Hour
DESCRIPTION:Let’s have some fun with our Happy Hour! Every Tuesday to Friday from 2pm to 6pm!
URL:https://www.parlorokc.com/event/happiest-hour-6/2028-01-07/
LOCATION:OK
CATEGORIES:Happy Hour
ATTACH;FMTTYPE=application/pdf:https://www.parlorokc.com/wp-content/uploads/2025/08/Happiest-Hour-2.pdf
END:VEVENT
BEGIN:VEVENT
DTSTART;TZID=America/Chicago:20280108T110000
DTEND;TZID=America/Chicago:20280108T180000
DTSTAMP:20260423T054318
CREATED:20250514T004801Z
LAST-MODIFIED:20250514T004801Z
UID:10013145-1830942000-1830967200@www.parlorokc.com
SUMMARY:Saturday Brunch
DESCRIPTION:Start your weekend with some Brunch cocktails! Mimosas\, Beermosas\, and Bloody Marys!
URL:https://www.parlorokc.com/event/saturday-brunch/2028-01-08/
LOCATION:Parlor\, 11 NE 6th St\, Oklahoma City\, OK\, 73104\, United States
CATEGORIES:Brunch
ATTACH;FMTTYPE=application/pdf:https://www.parlorokc.com/wp-content/uploads/2025/05/Untitled-design-3.pdf
END:VEVENT
BEGIN:VEVENT
DTSTART;TZID=America/Chicago:20280109T110000
DTEND;TZID=America/Chicago:20280109T180000
DTSTAMP:20260423T054318
CREATED:20250514T003239Z
LAST-MODIFIED:20250514T003239Z
UID:10012501-1831028400-1831053600@www.parlorokc.com
SUMMARY:Sunday Funday Brunch Bottomless Mimosas
DESCRIPTION:Come join us for brunch! We have a live DJ spinning bangers with BOTTOMLESS MIMOSAS!
URL:https://www.parlorokc.com/event/sunday-funday-brunch-2-2/2028-01-09/
LOCATION:OK
ATTACH;FMTTYPE=image/png:https://www.parlorokc.com/wp-content/uploads/2022/11/Brunch-4-e1693251251292.png
END:VEVENT
BEGIN:VEVENT
DTSTART;TZID=America/Chicago:20280110T110000
DTEND;TZID=America/Chicago:20280110T230000
DTSTAMP:20260423T054318
CREATED:20260320T005418Z
LAST-MODIFIED:20260320T005419Z
UID:10009289-1831114800-1831158000@www.parlorokc.com
SUMMARY:Closed for Cleaning & Staff Refresh; MOB Grill is open for lunch
DESCRIPTION:Closed for Cleaning & Staff Refresh. MOB Grill  is open for lunch from 11am-2pm!
URL:https://www.parlorokc.com/event/closed-for-cleaning-staff-refresh-2-2-2-2-2/2028-01-10/
LOCATION:Parlor\, 11 NE 6th St\, Oklahoma City\, OK\, 73104\, United States
ATTACH;FMTTYPE=image/png:https://www.parlorokc.com/wp-content/uploads/2024/06/Closed-for-cleaning-staff-refresh.png
END:VEVENT
BEGIN:VEVENT
DTSTART;TZID=America/Chicago:20280111T140000
DTEND;TZID=America/Chicago:20280111T180000
DTSTAMP:20260423T054318
CREATED:20241106T213943Z
LAST-MODIFIED:20251107T231148Z
UID:10010308-1831212000-1831226400@www.parlorokc.com
SUMMARY:Happiest Hour
DESCRIPTION:Let’s have some fun with our Happy Hour! Every Tuesday to Friday from 2pm to 6pm!
URL:https://www.parlorokc.com/event/happiest-hour-3/2028-01-11/
LOCATION:Parlor\, 11 NE 6th St\, Oklahoma City\, OK\, 73104\, United States
CATEGORIES:Happy Hour
ATTACH;FMTTYPE=application/pdf:https://www.parlorokc.com/wp-content/uploads/2024/08/Happiest-Hour-1.pdf
END:VEVENT
END:VCALENDAR