BEGIN:VCALENDAR
VERSION:2.0
PRODID:-//Parlor OKC - Oklahoma Citys Finest Food Hall - ECPv6.15.20//NONSGML v1.0//EN
CALSCALE:GREGORIAN
METHOD:PUBLISH
X-ORIGINAL-URL:https://www.parlorokc.com
X-WR-CALDESC:Events for Parlor OKC - Oklahoma Citys Finest Food Hall
REFRESH-INTERVAL;VALUE=DURATION:PT1H
X-Robots-Tag:noindex
X-PUBLISHED-TTL:PT1H
BEGIN:VTIMEZONE
TZID:America/Chicago
BEGIN:DAYLIGHT
TZOFFSETFROM:-0600
TZOFFSETTO:-0500
TZNAME:CDT
DTSTART:20260308T080000
END:DAYLIGHT
BEGIN:STANDARD
TZOFFSETFROM:-0500
TZOFFSETTO:-0600
TZNAME:CST
DTSTART:20261101T070000
END:STANDARD
BEGIN:DAYLIGHT
TZOFFSETFROM:-0600
TZOFFSETTO:-0500
TZNAME:CDT
DTSTART:20270314T080000
END:DAYLIGHT
BEGIN:STANDARD
TZOFFSETFROM:-0500
TZOFFSETTO:-0600
TZNAME:CST
DTSTART:20271107T070000
END:STANDARD
BEGIN:DAYLIGHT
TZOFFSETFROM:-0600
TZOFFSETTO:-0500
TZNAME:CDT
DTSTART:20280312T080000
END:DAYLIGHT
BEGIN:STANDARD
TZOFFSETFROM:-0500
TZOFFSETTO:-0600
TZNAME:CST
DTSTART:20281105T070000
END:STANDARD
END:VTIMEZONE
BEGIN:VEVENT
DTSTART;TZID=America/Chicago:20270204T140000
DTEND;TZID=America/Chicago:20270204T180000
DTSTAMP:20260421T151014
CREATED:20241106T213943Z
LAST-MODIFIED:20251107T231148Z
UID:10010114-1801749600-1801764000@www.parlorokc.com
SUMMARY:Happiest Hour
DESCRIPTION:Let’s have some fun with our Happy Hour! Every Tuesday to Friday from 2pm to 6pm!
URL:https://www.parlorokc.com/event/happiest-hour-3/2027-02-04/
LOCATION:Parlor\, 11 NE 6th St\, Oklahoma City\, OK\, 73104\, United States
CATEGORIES:Happy Hour
ATTACH;FMTTYPE=application/pdf:https://www.parlorokc.com/wp-content/uploads/2024/08/Happiest-Hour-1.pdf
END:VEVENT
BEGIN:VEVENT
DTSTART;TZID=America/Chicago:20270206T110000
DTEND;TZID=America/Chicago:20270206T180000
DTSTAMP:20260421T151014
CREATED:20250514T004801Z
LAST-MODIFIED:20250514T004801Z
UID:10013097-1801911600-1801936800@www.parlorokc.com
SUMMARY:Saturday Brunch
DESCRIPTION:Start your weekend with some Brunch cocktails! Mimosas\, Beermosas\, and Bloody Marys!
URL:https://www.parlorokc.com/event/saturday-brunch/2027-02-06/
LOCATION:Parlor\, 11 NE 6th St\, Oklahoma City\, OK\, 73104\, United States
CATEGORIES:Brunch
ATTACH;FMTTYPE=application/pdf:https://www.parlorokc.com/wp-content/uploads/2025/05/Untitled-design-3.pdf
END:VEVENT
BEGIN:VEVENT
DTSTART;TZID=America/Chicago:20270208T110000
DTEND;TZID=America/Chicago:20270208T230000
DTSTAMP:20260421T151014
CREATED:20260320T005418Z
LAST-MODIFIED:20260320T005419Z
UID:10009241-1802084400-1802127600@www.parlorokc.com
SUMMARY:Closed for Cleaning & Staff Refresh; MOB Grill is open for lunch
DESCRIPTION:Closed for Cleaning & Staff Refresh. MOB Grill  is open for lunch from 11am-2pm!
URL:https://www.parlorokc.com/event/closed-for-cleaning-staff-refresh-2-2-2-2-2/2027-02-08/
LOCATION:Parlor\, 11 NE 6th St\, Oklahoma City\, OK\, 73104\, United States
ATTACH;FMTTYPE=image/png:https://www.parlorokc.com/wp-content/uploads/2024/06/Closed-for-cleaning-staff-refresh.png
END:VEVENT
BEGIN:VEVENT
DTSTART;TZID=America/Chicago:20270209T140000
DTEND;TZID=America/Chicago:20270209T180000
DTSTAMP:20260421T151014
CREATED:20241106T213943Z
LAST-MODIFIED:20251107T231148Z
UID:10010116-1802181600-1802196000@www.parlorokc.com
SUMMARY:Happiest Hour
DESCRIPTION:Let’s have some fun with our Happy Hour! Every Tuesday to Friday from 2pm to 6pm!
URL:https://www.parlorokc.com/event/happiest-hour-3/2027-02-09/
LOCATION:Parlor\, 11 NE 6th St\, Oklahoma City\, OK\, 73104\, United States
CATEGORIES:Happy Hour
ATTACH;FMTTYPE=application/pdf:https://www.parlorokc.com/wp-content/uploads/2024/08/Happiest-Hour-1.pdf
END:VEVENT
BEGIN:VEVENT
DTSTART;TZID=America/Chicago:20270209T193000
DTEND;TZID=America/Chicago:20270209T210000
DTSTAMP:20260421T151014
CREATED:20241107T001309Z
LAST-MODIFIED:20241107T001310Z
UID:10011410-1802201400-1802206800@www.parlorokc.com
SUMMARY:Trivia Tuesday
DESCRIPTION:Join us every Tuesday Night from 7:30pm-9:30pm for our weekly trivia night. Hosted by BTK Productions\, battle against other teams to prove your knowledge. Prizes given to 1st\, 2nd\, & 3rd place winners.
URL:https://www.parlorokc.com/event/trivia-tuesday-5/2027-02-09/
LOCATION:Parlor\, 11 NE 6th St\, Oklahoma City\, OK\, 73104\, United States
ATTACH;FMTTYPE=image/png:https://www.parlorokc.com/wp-content/uploads/2022/04/2.png
END:VEVENT
BEGIN:VEVENT
DTSTART;TZID=America/Chicago:20270211T140000
DTEND;TZID=America/Chicago:20270211T180000
DTSTAMP:20260421T151014
CREATED:20241106T213943Z
LAST-MODIFIED:20251107T231148Z
UID:10010118-1802354400-1802368800@www.parlorokc.com
SUMMARY:Happiest Hour
DESCRIPTION:Let’s have some fun with our Happy Hour! Every Tuesday to Friday from 2pm to 6pm!
URL:https://www.parlorokc.com/event/happiest-hour-3/2027-02-11/
LOCATION:Parlor\, 11 NE 6th St\, Oklahoma City\, OK\, 73104\, United States
CATEGORIES:Happy Hour
ATTACH;FMTTYPE=application/pdf:https://www.parlorokc.com/wp-content/uploads/2024/08/Happiest-Hour-1.pdf
END:VEVENT
BEGIN:VEVENT
DTSTART;TZID=America/Chicago:20270213T110000
DTEND;TZID=America/Chicago:20270213T180000
DTSTAMP:20260421T151014
CREATED:20250514T004801Z
LAST-MODIFIED:20250514T004801Z
UID:10013098-1802516400-1802541600@www.parlorokc.com
SUMMARY:Saturday Brunch
DESCRIPTION:Start your weekend with some Brunch cocktails! Mimosas\, Beermosas\, and Bloody Marys!
URL:https://www.parlorokc.com/event/saturday-brunch/2027-02-13/
LOCATION:Parlor\, 11 NE 6th St\, Oklahoma City\, OK\, 73104\, United States
CATEGORIES:Brunch
ATTACH;FMTTYPE=application/pdf:https://www.parlorokc.com/wp-content/uploads/2025/05/Untitled-design-3.pdf
END:VEVENT
BEGIN:VEVENT
DTSTART;TZID=America/Chicago:20270215T110000
DTEND;TZID=America/Chicago:20270215T230000
DTSTAMP:20260421T151014
CREATED:20260320T005418Z
LAST-MODIFIED:20260320T005419Z
UID:10009242-1802689200-1802732400@www.parlorokc.com
SUMMARY:Closed for Cleaning & Staff Refresh; MOB Grill is open for lunch
DESCRIPTION:Closed for Cleaning & Staff Refresh. MOB Grill  is open for lunch from 11am-2pm!
URL:https://www.parlorokc.com/event/closed-for-cleaning-staff-refresh-2-2-2-2-2/2027-02-15/
LOCATION:Parlor\, 11 NE 6th St\, Oklahoma City\, OK\, 73104\, United States
ATTACH;FMTTYPE=image/png:https://www.parlorokc.com/wp-content/uploads/2024/06/Closed-for-cleaning-staff-refresh.png
END:VEVENT
BEGIN:VEVENT
DTSTART;TZID=America/Chicago:20270216T140000
DTEND;TZID=America/Chicago:20270216T180000
DTSTAMP:20260421T151014
CREATED:20241106T213943Z
LAST-MODIFIED:20251107T231148Z
UID:10010120-1802786400-1802800800@www.parlorokc.com
SUMMARY:Happiest Hour
DESCRIPTION:Let’s have some fun with our Happy Hour! Every Tuesday to Friday from 2pm to 6pm!
URL:https://www.parlorokc.com/event/happiest-hour-3/2027-02-16/
LOCATION:Parlor\, 11 NE 6th St\, Oklahoma City\, OK\, 73104\, United States
CATEGORIES:Happy Hour
ATTACH;FMTTYPE=application/pdf:https://www.parlorokc.com/wp-content/uploads/2024/08/Happiest-Hour-1.pdf
END:VEVENT
BEGIN:VEVENT
DTSTART;TZID=America/Chicago:20270216T193000
DTEND;TZID=America/Chicago:20270216T210000
DTSTAMP:20260421T151014
CREATED:20241107T001309Z
LAST-MODIFIED:20241107T001310Z
UID:10011411-1802806200-1802811600@www.parlorokc.com
SUMMARY:Trivia Tuesday
DESCRIPTION:Join us every Tuesday Night from 7:30pm-9:30pm for our weekly trivia night. Hosted by BTK Productions\, battle against other teams to prove your knowledge. Prizes given to 1st\, 2nd\, & 3rd place winners.
URL:https://www.parlorokc.com/event/trivia-tuesday-5/2027-02-16/
LOCATION:Parlor\, 11 NE 6th St\, Oklahoma City\, OK\, 73104\, United States
ATTACH;FMTTYPE=image/png:https://www.parlorokc.com/wp-content/uploads/2022/04/2.png
END:VEVENT
BEGIN:VEVENT
DTSTART;TZID=America/Chicago:20270218T140000
DTEND;TZID=America/Chicago:20270218T180000
DTSTAMP:20260421T151014
CREATED:20241106T213943Z
LAST-MODIFIED:20251107T231148Z
UID:10010122-1802959200-1802973600@www.parlorokc.com
SUMMARY:Happiest Hour
DESCRIPTION:Let’s have some fun with our Happy Hour! Every Tuesday to Friday from 2pm to 6pm!
URL:https://www.parlorokc.com/event/happiest-hour-3/2027-02-18/
LOCATION:Parlor\, 11 NE 6th St\, Oklahoma City\, OK\, 73104\, United States
CATEGORIES:Happy Hour
ATTACH;FMTTYPE=application/pdf:https://www.parlorokc.com/wp-content/uploads/2024/08/Happiest-Hour-1.pdf
END:VEVENT
BEGIN:VEVENT
DTSTART;TZID=America/Chicago:20270220T110000
DTEND;TZID=America/Chicago:20270220T180000
DTSTAMP:20260421T151014
CREATED:20250514T004801Z
LAST-MODIFIED:20250514T004801Z
UID:10013099-1803121200-1803146400@www.parlorokc.com
SUMMARY:Saturday Brunch
DESCRIPTION:Start your weekend with some Brunch cocktails! Mimosas\, Beermosas\, and Bloody Marys!
URL:https://www.parlorokc.com/event/saturday-brunch/2027-02-20/
LOCATION:Parlor\, 11 NE 6th St\, Oklahoma City\, OK\, 73104\, United States
CATEGORIES:Brunch
ATTACH;FMTTYPE=application/pdf:https://www.parlorokc.com/wp-content/uploads/2025/05/Untitled-design-3.pdf
END:VEVENT
BEGIN:VEVENT
DTSTART;TZID=America/Chicago:20270222T110000
DTEND;TZID=America/Chicago:20270222T230000
DTSTAMP:20260421T151014
CREATED:20260320T005418Z
LAST-MODIFIED:20260320T005419Z
UID:10009243-1803294000-1803337200@www.parlorokc.com
SUMMARY:Closed for Cleaning & Staff Refresh; MOB Grill is open for lunch
DESCRIPTION:Closed for Cleaning & Staff Refresh. MOB Grill  is open for lunch from 11am-2pm!
URL:https://www.parlorokc.com/event/closed-for-cleaning-staff-refresh-2-2-2-2-2/2027-02-22/
LOCATION:Parlor\, 11 NE 6th St\, Oklahoma City\, OK\, 73104\, United States
ATTACH;FMTTYPE=image/png:https://www.parlorokc.com/wp-content/uploads/2024/06/Closed-for-cleaning-staff-refresh.png
END:VEVENT
BEGIN:VEVENT
DTSTART;TZID=America/Chicago:20270223T140000
DTEND;TZID=America/Chicago:20270223T180000
DTSTAMP:20260421T151014
CREATED:20241106T213943Z
LAST-MODIFIED:20251107T231148Z
UID:10010124-1803391200-1803405600@www.parlorokc.com
SUMMARY:Happiest Hour
DESCRIPTION:Let’s have some fun with our Happy Hour! Every Tuesday to Friday from 2pm to 6pm!
URL:https://www.parlorokc.com/event/happiest-hour-3/2027-02-23/
LOCATION:Parlor\, 11 NE 6th St\, Oklahoma City\, OK\, 73104\, United States
CATEGORIES:Happy Hour
ATTACH;FMTTYPE=application/pdf:https://www.parlorokc.com/wp-content/uploads/2024/08/Happiest-Hour-1.pdf
END:VEVENT
BEGIN:VEVENT
DTSTART;TZID=America/Chicago:20270223T193000
DTEND;TZID=America/Chicago:20270223T210000
DTSTAMP:20260421T151014
CREATED:20241107T001309Z
LAST-MODIFIED:20241107T001310Z
UID:10011412-1803411000-1803416400@www.parlorokc.com
SUMMARY:Trivia Tuesday
DESCRIPTION:Join us every Tuesday Night from 7:30pm-9:30pm for our weekly trivia night. Hosted by BTK Productions\, battle against other teams to prove your knowledge. Prizes given to 1st\, 2nd\, & 3rd place winners.
URL:https://www.parlorokc.com/event/trivia-tuesday-5/2027-02-23/
LOCATION:Parlor\, 11 NE 6th St\, Oklahoma City\, OK\, 73104\, United States
ATTACH;FMTTYPE=image/png:https://www.parlorokc.com/wp-content/uploads/2022/04/2.png
END:VEVENT
BEGIN:VEVENT
DTSTART;TZID=America/Chicago:20270225T140000
DTEND;TZID=America/Chicago:20270225T180000
DTSTAMP:20260421T151014
CREATED:20241106T213943Z
LAST-MODIFIED:20251107T231148Z
UID:10010126-1803564000-1803578400@www.parlorokc.com
SUMMARY:Happiest Hour
DESCRIPTION:Let’s have some fun with our Happy Hour! Every Tuesday to Friday from 2pm to 6pm!
URL:https://www.parlorokc.com/event/happiest-hour-3/2027-02-25/
LOCATION:Parlor\, 11 NE 6th St\, Oklahoma City\, OK\, 73104\, United States
CATEGORIES:Happy Hour
ATTACH;FMTTYPE=application/pdf:https://www.parlorokc.com/wp-content/uploads/2024/08/Happiest-Hour-1.pdf
END:VEVENT
BEGIN:VEVENT
DTSTART;TZID=America/Chicago:20270227T110000
DTEND;TZID=America/Chicago:20270227T180000
DTSTAMP:20260421T151014
CREATED:20250514T004801Z
LAST-MODIFIED:20250514T004801Z
UID:10013100-1803726000-1803751200@www.parlorokc.com
SUMMARY:Saturday Brunch
DESCRIPTION:Start your weekend with some Brunch cocktails! Mimosas\, Beermosas\, and Bloody Marys!
URL:https://www.parlorokc.com/event/saturday-brunch/2027-02-27/
LOCATION:Parlor\, 11 NE 6th St\, Oklahoma City\, OK\, 73104\, United States
CATEGORIES:Brunch
ATTACH;FMTTYPE=application/pdf:https://www.parlorokc.com/wp-content/uploads/2025/05/Untitled-design-3.pdf
END:VEVENT
BEGIN:VEVENT
DTSTART;TZID=America/Chicago:20270301T110000
DTEND;TZID=America/Chicago:20270301T230000
DTSTAMP:20260421T151014
CREATED:20260320T005418Z
LAST-MODIFIED:20260320T005419Z
UID:10009244-1803898800-1803942000@www.parlorokc.com
SUMMARY:Closed for Cleaning & Staff Refresh; MOB Grill is open for lunch
DESCRIPTION:Closed for Cleaning & Staff Refresh. MOB Grill  is open for lunch from 11am-2pm!
URL:https://www.parlorokc.com/event/closed-for-cleaning-staff-refresh-2-2-2-2-2/2027-03-01/
LOCATION:Parlor\, 11 NE 6th St\, Oklahoma City\, OK\, 73104\, United States
ATTACH;FMTTYPE=image/png:https://www.parlorokc.com/wp-content/uploads/2024/06/Closed-for-cleaning-staff-refresh.png
END:VEVENT
BEGIN:VEVENT
DTSTART;TZID=America/Chicago:20270302T140000
DTEND;TZID=America/Chicago:20270302T180000
DTSTAMP:20260421T151014
CREATED:20241106T213943Z
LAST-MODIFIED:20251107T231148Z
UID:10010128-1803996000-1804010400@www.parlorokc.com
SUMMARY:Happiest Hour
DESCRIPTION:Let’s have some fun with our Happy Hour! Every Tuesday to Friday from 2pm to 6pm!
URL:https://www.parlorokc.com/event/happiest-hour-3/2027-03-02/
LOCATION:Parlor\, 11 NE 6th St\, Oklahoma City\, OK\, 73104\, United States
CATEGORIES:Happy Hour
ATTACH;FMTTYPE=application/pdf:https://www.parlorokc.com/wp-content/uploads/2024/08/Happiest-Hour-1.pdf
END:VEVENT
BEGIN:VEVENT
DTSTART;TZID=America/Chicago:20270302T193000
DTEND;TZID=America/Chicago:20270302T210000
DTSTAMP:20260421T151014
CREATED:20241107T001309Z
LAST-MODIFIED:20241107T001310Z
UID:10011413-1804015800-1804021200@www.parlorokc.com
SUMMARY:Trivia Tuesday
DESCRIPTION:Join us every Tuesday Night from 7:30pm-9:30pm for our weekly trivia night. Hosted by BTK Productions\, battle against other teams to prove your knowledge. Prizes given to 1st\, 2nd\, & 3rd place winners.
URL:https://www.parlorokc.com/event/trivia-tuesday-5/2027-03-02/
LOCATION:Parlor\, 11 NE 6th St\, Oklahoma City\, OK\, 73104\, United States
ATTACH;FMTTYPE=image/png:https://www.parlorokc.com/wp-content/uploads/2022/04/2.png
END:VEVENT
BEGIN:VEVENT
DTSTART;TZID=America/Chicago:20270304T140000
DTEND;TZID=America/Chicago:20270304T180000
DTSTAMP:20260421T151014
CREATED:20241106T213943Z
LAST-MODIFIED:20251107T231148Z
UID:10010130-1804168800-1804183200@www.parlorokc.com
SUMMARY:Happiest Hour
DESCRIPTION:Let’s have some fun with our Happy Hour! Every Tuesday to Friday from 2pm to 6pm!
URL:https://www.parlorokc.com/event/happiest-hour-3/2027-03-04/
LOCATION:Parlor\, 11 NE 6th St\, Oklahoma City\, OK\, 73104\, United States
CATEGORIES:Happy Hour
ATTACH;FMTTYPE=application/pdf:https://www.parlorokc.com/wp-content/uploads/2024/08/Happiest-Hour-1.pdf
END:VEVENT
BEGIN:VEVENT
DTSTART;TZID=America/Chicago:20270306T110000
DTEND;TZID=America/Chicago:20270306T180000
DTSTAMP:20260421T151014
CREATED:20250514T004801Z
LAST-MODIFIED:20250514T004801Z
UID:10013101-1804330800-1804356000@www.parlorokc.com
SUMMARY:Saturday Brunch
DESCRIPTION:Start your weekend with some Brunch cocktails! Mimosas\, Beermosas\, and Bloody Marys!
URL:https://www.parlorokc.com/event/saturday-brunch/2027-03-06/
LOCATION:Parlor\, 11 NE 6th St\, Oklahoma City\, OK\, 73104\, United States
CATEGORIES:Brunch
ATTACH;FMTTYPE=application/pdf:https://www.parlorokc.com/wp-content/uploads/2025/05/Untitled-design-3.pdf
END:VEVENT
BEGIN:VEVENT
DTSTART;TZID=America/Chicago:20270308T110000
DTEND;TZID=America/Chicago:20270308T230000
DTSTAMP:20260421T151014
CREATED:20260320T005418Z
LAST-MODIFIED:20260320T005419Z
UID:10009245-1804503600-1804546800@www.parlorokc.com
SUMMARY:Closed for Cleaning & Staff Refresh; MOB Grill is open for lunch
DESCRIPTION:Closed for Cleaning & Staff Refresh. MOB Grill  is open for lunch from 11am-2pm!
URL:https://www.parlorokc.com/event/closed-for-cleaning-staff-refresh-2-2-2-2-2/2027-03-08/
LOCATION:Parlor\, 11 NE 6th St\, Oklahoma City\, OK\, 73104\, United States
ATTACH;FMTTYPE=image/png:https://www.parlorokc.com/wp-content/uploads/2024/06/Closed-for-cleaning-staff-refresh.png
END:VEVENT
BEGIN:VEVENT
DTSTART;TZID=America/Chicago:20270309T140000
DTEND;TZID=America/Chicago:20270309T180000
DTSTAMP:20260421T151014
CREATED:20241106T213943Z
LAST-MODIFIED:20251107T231148Z
UID:10010132-1804600800-1804615200@www.parlorokc.com
SUMMARY:Happiest Hour
DESCRIPTION:Let’s have some fun with our Happy Hour! Every Tuesday to Friday from 2pm to 6pm!
URL:https://www.parlorokc.com/event/happiest-hour-3/2027-03-09/
LOCATION:Parlor\, 11 NE 6th St\, Oklahoma City\, OK\, 73104\, United States
CATEGORIES:Happy Hour
ATTACH;FMTTYPE=application/pdf:https://www.parlorokc.com/wp-content/uploads/2024/08/Happiest-Hour-1.pdf
END:VEVENT
BEGIN:VEVENT
DTSTART;TZID=America/Chicago:20270309T193000
DTEND;TZID=America/Chicago:20270309T210000
DTSTAMP:20260421T151014
CREATED:20241107T001309Z
LAST-MODIFIED:20241107T001310Z
UID:10011414-1804620600-1804626000@www.parlorokc.com
SUMMARY:Trivia Tuesday
DESCRIPTION:Join us every Tuesday Night from 7:30pm-9:30pm for our weekly trivia night. Hosted by BTK Productions\, battle against other teams to prove your knowledge. Prizes given to 1st\, 2nd\, & 3rd place winners.
URL:https://www.parlorokc.com/event/trivia-tuesday-5/2027-03-09/
LOCATION:Parlor\, 11 NE 6th St\, Oklahoma City\, OK\, 73104\, United States
ATTACH;FMTTYPE=image/png:https://www.parlorokc.com/wp-content/uploads/2022/04/2.png
END:VEVENT
BEGIN:VEVENT
DTSTART;TZID=America/Chicago:20270311T140000
DTEND;TZID=America/Chicago:20270311T180000
DTSTAMP:20260421T151014
CREATED:20241106T213943Z
LAST-MODIFIED:20251107T231148Z
UID:10010134-1804773600-1804788000@www.parlorokc.com
SUMMARY:Happiest Hour
DESCRIPTION:Let’s have some fun with our Happy Hour! Every Tuesday to Friday from 2pm to 6pm!
URL:https://www.parlorokc.com/event/happiest-hour-3/2027-03-11/
LOCATION:Parlor\, 11 NE 6th St\, Oklahoma City\, OK\, 73104\, United States
CATEGORIES:Happy Hour
ATTACH;FMTTYPE=application/pdf:https://www.parlorokc.com/wp-content/uploads/2024/08/Happiest-Hour-1.pdf
END:VEVENT
BEGIN:VEVENT
DTSTART;TZID=America/Chicago:20270313T110000
DTEND;TZID=America/Chicago:20270313T180000
DTSTAMP:20260421T151014
CREATED:20250514T004801Z
LAST-MODIFIED:20250514T004801Z
UID:10013102-1804935600-1804960800@www.parlorokc.com
SUMMARY:Saturday Brunch
DESCRIPTION:Start your weekend with some Brunch cocktails! Mimosas\, Beermosas\, and Bloody Marys!
URL:https://www.parlorokc.com/event/saturday-brunch/2027-03-13/
LOCATION:Parlor\, 11 NE 6th St\, Oklahoma City\, OK\, 73104\, United States
CATEGORIES:Brunch
ATTACH;FMTTYPE=application/pdf:https://www.parlorokc.com/wp-content/uploads/2025/05/Untitled-design-3.pdf
END:VEVENT
BEGIN:VEVENT
DTSTART;TZID=America/Chicago:20270315T110000
DTEND;TZID=America/Chicago:20270315T230000
DTSTAMP:20260421T151014
CREATED:20260320T005418Z
LAST-MODIFIED:20260320T005419Z
UID:10009246-1805108400-1805151600@www.parlorokc.com
SUMMARY:Closed for Cleaning & Staff Refresh; MOB Grill is open for lunch
DESCRIPTION:Closed for Cleaning & Staff Refresh. MOB Grill  is open for lunch from 11am-2pm!
URL:https://www.parlorokc.com/event/closed-for-cleaning-staff-refresh-2-2-2-2-2/2027-03-15/
LOCATION:Parlor\, 11 NE 6th St\, Oklahoma City\, OK\, 73104\, United States
ATTACH;FMTTYPE=image/png:https://www.parlorokc.com/wp-content/uploads/2024/06/Closed-for-cleaning-staff-refresh.png
END:VEVENT
BEGIN:VEVENT
DTSTART;TZID=America/Chicago:20270316T140000
DTEND;TZID=America/Chicago:20270316T180000
DTSTAMP:20260421T151014
CREATED:20241106T213943Z
LAST-MODIFIED:20251107T231148Z
UID:10010136-1805205600-1805220000@www.parlorokc.com
SUMMARY:Happiest Hour
DESCRIPTION:Let’s have some fun with our Happy Hour! Every Tuesday to Friday from 2pm to 6pm!
URL:https://www.parlorokc.com/event/happiest-hour-3/2027-03-16/
LOCATION:Parlor\, 11 NE 6th St\, Oklahoma City\, OK\, 73104\, United States
CATEGORIES:Happy Hour
ATTACH;FMTTYPE=application/pdf:https://www.parlorokc.com/wp-content/uploads/2024/08/Happiest-Hour-1.pdf
END:VEVENT
BEGIN:VEVENT
DTSTART;TZID=America/Chicago:20270316T193000
DTEND;TZID=America/Chicago:20270316T210000
DTSTAMP:20260421T151014
CREATED:20241107T001309Z
LAST-MODIFIED:20241107T001310Z
UID:10011415-1805225400-1805230800@www.parlorokc.com
SUMMARY:Trivia Tuesday
DESCRIPTION:Join us every Tuesday Night from 7:30pm-9:30pm for our weekly trivia night. Hosted by BTK Productions\, battle against other teams to prove your knowledge. Prizes given to 1st\, 2nd\, & 3rd place winners.
URL:https://www.parlorokc.com/event/trivia-tuesday-5/2027-03-16/
LOCATION:Parlor\, 11 NE 6th St\, Oklahoma City\, OK\, 73104\, United States
ATTACH;FMTTYPE=image/png:https://www.parlorokc.com/wp-content/uploads/2022/04/2.png
END:VEVENT
END:VCALENDAR